BEGIN:VCALENDAR
VERSION:2.0
PRODID:-//American Dream Home Team - ECPv6.15.20//NONSGML v1.0//EN
CALSCALE:GREGORIAN
METHOD:PUBLISH
X-ORIGINAL-URL:https://americandreamhometeam.com
X-WR-CALDESC:Events for American Dream Home Team
REFRESH-INTERVAL;VALUE=DURATION:PT1H
X-Robots-Tag:noindex
X-PUBLISHED-TTL:PT1H
BEGIN:VTIMEZONE
TZID:America/Chicago
BEGIN:DAYLIGHT
TZOFFSETFROM:-0600
TZOFFSETTO:-0500
TZNAME:CDT
DTSTART:20250309T080000
END:DAYLIGHT
BEGIN:STANDARD
TZOFFSETFROM:-0500
TZOFFSETTO:-0600
TZNAME:CST
DTSTART:20251102T070000
END:STANDARD
BEGIN:DAYLIGHT
TZOFFSETFROM:-0600
TZOFFSETTO:-0500
TZNAME:CDT
DTSTART:20260308T080000
END:DAYLIGHT
BEGIN:STANDARD
TZOFFSETFROM:-0500
TZOFFSETTO:-0600
TZNAME:CST
DTSTART:20261101T070000
END:STANDARD
BEGIN:DAYLIGHT
TZOFFSETFROM:-0600
TZOFFSETTO:-0500
TZNAME:CDT
DTSTART:20270314T080000
END:DAYLIGHT
BEGIN:STANDARD
TZOFFSETFROM:-0500
TZOFFSETTO:-0600
TZNAME:CST
DTSTART:20271107T070000
END:STANDARD
END:VTIMEZONE
BEGIN:VEVENT
DTSTART;TZID=America/Chicago:20260801T100000
DTEND;TZID=America/Chicago:20260801T220000
DTSTAMP:20260420T143510
CREATED:20251209T214729Z
LAST-MODIFIED:20260416T142046Z
UID:10000144-1785578400-1785621600@americandreamhometeam.com
SUMMARY:Washington County Fair
DESCRIPTION:Join us at the Washington County Fair where you’ll find a carnival with rides and games\, exhibits\, live music\, and more. The American Dream Machine will be serving up our usual fare of deliciousness with our throwback ‘diner’ flair.
URL:https://americandreamhometeam.com/event/washington-county-fair-9/
LOCATION:Washington County Fairgrounds\, 12300 40th St N\, Lake Elmo\, MN\, 55042\, United States
CATEGORIES:County Fair
ATTACH;FMTTYPE=image/png:https://americandreamhometeam.com/wp-content/uploads/2025/05/Washington-County-Fair-600x400-1.png
END:VEVENT
BEGIN:VEVENT
DTSTART;TZID=America/Chicago:20260802T100000
DTEND;TZID=America/Chicago:20260802T200000
DTSTAMP:20260420T143510
CREATED:20251209T214902Z
LAST-MODIFIED:20260416T142026Z
UID:10000145-1785664800-1785700800@americandreamhometeam.com
SUMMARY:Washington County Fair
DESCRIPTION:Join us at the Washington County Fair where you’ll find a carnival with rides and games\, exhibits\, live music\, and more. The American Dream Machine will be serving up our usual fare of deliciousness with our throwback ‘diner’ flair.
URL:https://americandreamhometeam.com/event/washington-county-fair-10/
LOCATION:Washington County Fairgrounds\, 12300 40th St N\, Lake Elmo\, MN\, 55042\, United States
CATEGORIES:County Fair
ATTACH;FMTTYPE=image/png:https://americandreamhometeam.com/wp-content/uploads/2025/05/Washington-County-Fair-600x400-1.png
END:VEVENT
BEGIN:VEVENT
DTSTART;TZID=America/Chicago:20260808T110000
DTEND;TZID=America/Chicago:20260808T200000
DTSTAMP:20260420T143510
CREATED:20260416T160729Z
LAST-MODIFIED:20260416T160729Z
UID:10000197-1786186800-1786219200@americandreamhometeam.com
SUMMARY:1st Annual Food Truck Festival
DESCRIPTION:Join the American Dream Machine for the 1st Annual Food Truck Festival where we will be serving up our usual fare of deliciousness with our throwback ‘diner’ flair.
URL:https://americandreamhometeam.com/event/1st-annual-food-truck-festival/
LOCATION:The Landing Three Rivers\, 2187 Highway 101 E\, Shakopee\, MN\, 55379\, United States
CATEGORIES:Community Event
ATTACH;FMTTYPE=image/png:https://americandreamhometeam.com/wp-content/uploads/2026/01/three-rivers-food-truck-festival-1.png
END:VEVENT
BEGIN:VEVENT
DTSTART;TZID=America/Chicago:20260809T113000
DTEND;TZID=America/Chicago:20260809T170000
DTSTAMP:20260420T143510
CREATED:20260416T150912Z
LAST-MODIFIED:20260416T150912Z
UID:10000188-1786275000-1786294800@americandreamhometeam.com
SUMMARY:Canterbury Park - Corgi Dog Races
DESCRIPTION:Join the American Dream Machine at the Canterbury Park for Corgi Dog racing. We’ll be serving up our usual fare of deliciousness with our throwback ‘diner’ flair.
URL:https://americandreamhometeam.com/event/canterbury-park-corgi-dog-races-2/
LOCATION:Canterbury Park\, 1100 Canterbury Rd\, Shakopee\, MN\, 55379\, United States
CATEGORIES:Canterbury Park
ATTACH;FMTTYPE=image/png:https://americandreamhometeam.com/wp-content/uploads/2025/03/Canterbury-Dog-Race-Days-600x400-1.png
END:VEVENT
BEGIN:VEVENT
DTSTART;TZID=America/Chicago:20260810T120000
DTEND;TZID=America/Chicago:20260810T220000
DTSTAMP:20260420T143510
CREATED:20251209T215353Z
LAST-MODIFIED:20260416T124430Z
UID:10000146-1786363200-1786399200@americandreamhometeam.com
SUMMARY:Dakota County Fair
DESCRIPTION:Join us at the Dakota County Fair where you can watch a rodeo or a demolition derby\, stroll through the exhibits\, hang out at the beer garden\, and so much more. The American Dream Machine will be serving up our usual fare of deliciousness with our throwback ‘diner’ flair.
URL:https://americandreamhometeam.com/event/dakota-county-fair-2/
LOCATION:Dakota County Fairgrounds\, 4008 220th St W\, Farmington\, MN\, 55024\, United States
CATEGORIES:County Fair
ATTACH;FMTTYPE=image/png:https://americandreamhometeam.com/wp-content/uploads/2025/05/Dakoka-County-Fair-600x400-1.png
END:VEVENT
BEGIN:VEVENT
DTSTART;TZID=America/Chicago:20260811T100000
DTEND;TZID=America/Chicago:20260811T220000
DTSTAMP:20260420T143510
CREATED:20251209T215521Z
LAST-MODIFIED:20260416T120011Z
UID:10000147-1786442400-1786485600@americandreamhometeam.com
SUMMARY:Dakota County Fair
DESCRIPTION:Join us at the Dakota County Fair where you can watch a rodeo or a demolition derby\, stroll through the exhibits\, hang out at the beer garden\, and so much more. The American Dream Machine will be serving up our usual fare of deliciousness with our throwback ‘diner’ flair.
URL:https://americandreamhometeam.com/event/dakota-county-fair-9/
LOCATION:Dakota County Fairgrounds\, 4008 220th St W\, Farmington\, MN\, 55024\, United States
CATEGORIES:County Fair
ATTACH;FMTTYPE=image/png:https://americandreamhometeam.com/wp-content/uploads/2025/05/Dakoka-County-Fair-600x400-1.png
END:VEVENT
BEGIN:VEVENT
DTSTART;TZID=America/Chicago:20260812T100000
DTEND;TZID=America/Chicago:20260812T220000
DTSTAMP:20260420T143510
CREATED:20251209T215645Z
LAST-MODIFIED:20260416T142855Z
UID:10000148-1786528800-1786572000@americandreamhometeam.com
SUMMARY:Dakota County Fair
DESCRIPTION:Join us at the Dakota County Fair where you can watch a rodeo or a demolition derby\, stroll through the exhibits\, hang out at the beer garden\, and so much more. The American Dream Machine will be serving up our usual fare of deliciousness with our throwback ‘diner’ flair.
URL:https://americandreamhometeam.com/event/dakota-county-fair-10/
LOCATION:Dakota County Fairgrounds\, 4008 220th St W\, Farmington\, MN\, 55024\, United States
CATEGORIES:County Fair
ATTACH;FMTTYPE=image/png:https://americandreamhometeam.com/wp-content/uploads/2025/05/Dakoka-County-Fair-600x400-1.png
END:VEVENT
BEGIN:VEVENT
DTSTART;TZID=America/Chicago:20260813T100000
DTEND;TZID=America/Chicago:20260813T220000
DTSTAMP:20260420T143510
CREATED:20251209T215741Z
LAST-MODIFIED:20260416T142711Z
UID:10000149-1786615200-1786658400@americandreamhometeam.com
SUMMARY:Dakota County Fair
DESCRIPTION:Join us at the Dakota County Fair where you can watch a rodeo or a demolition derby\, stroll through the exhibits\, hang out at the beer garden\, and so much more. The American Dream Machine will be serving up our usual fare of deliciousness with our throwback ‘diner’ flair.
URL:https://americandreamhometeam.com/event/dakota-county-fair-11/
LOCATION:Dakota County Fairgrounds\, 4008 220th St W\, Farmington\, MN\, 55024\, United States
CATEGORIES:County Fair
ATTACH;FMTTYPE=image/png:https://americandreamhometeam.com/wp-content/uploads/2025/05/Dakoka-County-Fair-600x400-1.png
END:VEVENT
BEGIN:VEVENT
DTSTART;TZID=America/Chicago:20260814T100000
DTEND;TZID=America/Chicago:20260814T220000
DTSTAMP:20260420T143510
CREATED:20251209T215908Z
LAST-MODIFIED:20260416T142652Z
UID:10000150-1786701600-1786744800@americandreamhometeam.com
SUMMARY:Dakota County Fair
DESCRIPTION:Join us at the Dakota County Fair where you can watch a rodeo or a demolition derby\, stroll through the exhibits\, hang out at the beer garden\, and so much more. The American Dream Machine will be serving up our usual fare of deliciousness with our throwback ‘diner’ flair.
URL:https://americandreamhometeam.com/event/dakota-county-fair-12/
LOCATION:Dakota County Fairgrounds\, 4008 220th St W\, Farmington\, MN\, 55024\, United States
CATEGORIES:County Fair
ATTACH;FMTTYPE=image/png:https://americandreamhometeam.com/wp-content/uploads/2025/05/Dakoka-County-Fair-600x400-1.png
END:VEVENT
BEGIN:VEVENT
DTSTART;TZID=America/Chicago:20260815T100000
DTEND;TZID=America/Chicago:20260815T220000
DTSTAMP:20260420T143510
CREATED:20251209T220001Z
LAST-MODIFIED:20260416T142158Z
UID:10000160-1786788000-1786831200@americandreamhometeam.com
SUMMARY:Dakota County Fair
DESCRIPTION:Join us at the Dakota County Fair where you can watch a rodeo or a demolition derby\, stroll through the exhibits\, hang out at the beer garden\, and so much more. The American Dream Machine will be serving up our usual fare of deliciousness with our throwback ‘diner’ flair.
URL:https://americandreamhometeam.com/event/dakota-county-fair-13/
LOCATION:Dakota County Fairgrounds\, 4008 220th St W\, Farmington\, MN\, 55024\, United States
CATEGORIES:County Fair
ATTACH;FMTTYPE=image/png:https://americandreamhometeam.com/wp-content/uploads/2025/05/Dakoka-County-Fair-600x400-1.png
END:VEVENT
BEGIN:VEVENT
DTSTART;TZID=America/Chicago:20260816T100000
DTEND;TZID=America/Chicago:20260816T170000
DTSTAMP:20260420T143510
CREATED:20251209T220134Z
LAST-MODIFIED:20260416T142142Z
UID:10000161-1786874400-1786899600@americandreamhometeam.com
SUMMARY:Dakota County Fair
DESCRIPTION:Join us at the Dakota County Fair where you can watch a rodeo or a demolition derby\, stroll through the exhibits\, hang out at the beer garden\, and so much more. The American Dream Machine will be serving up our usual fare of deliciousness with our throwback ‘diner’ flair.
URL:https://americandreamhometeam.com/event/dakota-county-fair-14/
LOCATION:Dakota County Fairgrounds\, 4008 220th St W\, Farmington\, MN\, 55024\, United States
CATEGORIES:County Fair
ATTACH;FMTTYPE=image/png:https://americandreamhometeam.com/wp-content/uploads/2025/05/Dakoka-County-Fair-600x400-1.png
END:VEVENT
BEGIN:VEVENT
DTSTART;TZID=America/Chicago:20260820T110000
DTEND;TZID=America/Chicago:20260820T130000
DTSTAMP:20260420T143510
CREATED:20260115T191340Z
LAST-MODIFIED:20260115T191340Z
UID:10000165-1787223600-1787230800@americandreamhometeam.com
SUMMARY:Discover Cottage Grove
DESCRIPTION:Come out and dine with The American Dream Machine at the Discover Cottage Grove event! We’ll be serving up our usual fare of deliciousness with our throwback ‘diner’ flair.
URL:https://americandreamhometeam.com/event/discover-cottage-grove-2/
LOCATION:Cottage Grove City Hall\, 12800 Ravine Parkway S\, Cottage Grove\, MN\, 55016\, United States
CATEGORIES:Community Event
ATTACH;FMTTYPE=image/png:https://americandreamhometeam.com/wp-content/uploads/2026/01/Discover-Cottage-Grove-600x400-1.png
END:VEVENT
BEGIN:VEVENT
DTSTART;TZID=America/Chicago:20260823T160000
DTEND;TZID=America/Chicago:20260823T190000
DTSTAMP:20260420T143510
CREATED:20260331T142248Z
LAST-MODIFIED:20260331T142248Z
UID:10000180-1787500800-1787511600@americandreamhometeam.com
SUMMARY:Private Wedding
DESCRIPTION:Private wedding\, not open to the public. Yes\, we do private events! Contact us to book an event.
URL:https://americandreamhometeam.com/event/private-wedding-3/
LOCATION:MN
CATEGORIES:Private Event
ATTACH;FMTTYPE=image/png:https://americandreamhometeam.com/wp-content/uploads/2024/03/Private-Event-Wedding-600x400-1.png
END:VEVENT
END:VCALENDAR