BEGIN:VCALENDAR
VERSION:2.0
PRODID:-//American Dream Home Team - ECPv6.15.20//NONSGML v1.0//EN
CALSCALE:GREGORIAN
METHOD:PUBLISH
X-ORIGINAL-URL:https://americandreamhometeam.com
X-WR-CALDESC:Events for American Dream Home Team
REFRESH-INTERVAL;VALUE=DURATION:PT1H
X-Robots-Tag:noindex
X-PUBLISHED-TTL:PT1H
BEGIN:VTIMEZONE
TZID:America/Chicago
BEGIN:DAYLIGHT
TZOFFSETFROM:-0600
TZOFFSETTO:-0500
TZNAME:CDT
DTSTART:20250309T080000
END:DAYLIGHT
BEGIN:STANDARD
TZOFFSETFROM:-0500
TZOFFSETTO:-0600
TZNAME:CST
DTSTART:20251102T070000
END:STANDARD
BEGIN:DAYLIGHT
TZOFFSETFROM:-0600
TZOFFSETTO:-0500
TZNAME:CDT
DTSTART:20260308T080000
END:DAYLIGHT
BEGIN:STANDARD
TZOFFSETFROM:-0500
TZOFFSETTO:-0600
TZNAME:CST
DTSTART:20261101T070000
END:STANDARD
BEGIN:DAYLIGHT
TZOFFSETFROM:-0600
TZOFFSETTO:-0500
TZNAME:CDT
DTSTART:20270314T080000
END:DAYLIGHT
BEGIN:STANDARD
TZOFFSETFROM:-0500
TZOFFSETTO:-0600
TZNAME:CST
DTSTART:20271107T070000
END:STANDARD
END:VTIMEZONE
BEGIN:VEVENT
DTSTART;TZID=America/Chicago:20260703T133000
DTEND;TZID=America/Chicago:20260703T220000
DTSTAMP:20260420T214321
CREATED:20260415T182323Z
LAST-MODIFIED:20260416T152428Z
UID:10000186-1783085400-1783116000@americandreamhometeam.com
SUMMARY:Canterbury Park - Kwik Trip Fireworks Spectacular
DESCRIPTION:Join the American Dream Machine at the Canterbury Park Kwik Trip Fireworks Spectacular. There is sure to be something for everyone in the family with our menu!
URL:https://americandreamhometeam.com/event/canterbury-park-kwik-trip-fireworks-spectacular/
LOCATION:Canterbury Park\, 1100 Canterbury Rd\, Shakopee\, MN\, 55379\, United States
CATEGORIES:Canterbury Park
ATTACH;FMTTYPE=image/png:https://americandreamhometeam.com/wp-content/uploads/2026/04/canterbury-park-fireworks.png
END:VEVENT
BEGIN:VEVENT
DTSTART;TZID=America/Chicago:20260704T113000
DTEND;TZID=America/Chicago:20260704T190000
DTSTAMP:20260420T214321
CREATED:20260416T150612Z
LAST-MODIFIED:20260416T150706Z
UID:10000187-1783164600-1783191600@americandreamhometeam.com
SUMMARY:Canterbury Park - Hormel 4th of July with Wiener Dog Races
DESCRIPTION:Join the American Dream Machine at the Canterbury Park Hormel 4th of July Celebration with Wiener Dog Races. There is sure to be something for everyone in the family with our expanded menu!
URL:https://americandreamhometeam.com/event/canterbury-park-hormel-4th-of-july-with-wiener-dog-races/
LOCATION:Canterbury Park\, 1100 Canterbury Rd\, Shakopee\, MN\, 55379\, United States
CATEGORIES:Canterbury Park
ATTACH;FMTTYPE=image/png:https://americandreamhometeam.com/wp-content/uploads/2026/04/canterbury-park-wiener-dog-races.png
END:VEVENT
BEGIN:VEVENT
DTSTART;TZID=America/Chicago:20260712T113000
DTEND;TZID=America/Chicago:20260712T170000
DTSTAMP:20260420T214321
CREATED:20260416T152118Z
LAST-MODIFIED:20260416T152118Z
UID:10000191-1783855800-1783875600@americandreamhometeam.com
SUMMARY:Canterbury Park - Extreme Day
DESCRIPTION:Join the American Dream Machine at the Canterbury Park for Extreme Day where everything goes bigger\, faster\, and wilder at The Park. Not only will you experience extreme animal races featuring ostriches\, camels\, and zebras\, but you can also expect extreme food\, extreme entertainment\, and nonstop over-the-top fun all day long. We’ll be serving up our usual fare of deliciousness with our throwback ‘diner’ flair.
URL:https://americandreamhometeam.com/event/canterbury-park-extreme-day/
LOCATION:Canterbury Park\, 1100 Canterbury Rd\, Shakopee\, MN\, 55379\, United States
CATEGORIES:Canterbury Park
ATTACH;FMTTYPE=image/png:https://americandreamhometeam.com/wp-content/uploads/2026/04/canterbury-park-extreme-race-day.png
END:VEVENT
BEGIN:VEVENT
DTSTART;TZID=America/Chicago:20260723T170000
DTEND;TZID=America/Chicago:20260723T223000
DTSTAMP:20260420T214321
CREATED:20260303T202851Z
LAST-MODIFIED:20260416T141311Z
UID:10000174-1784826000-1784845800@americandreamhometeam.com
SUMMARY:Leprechaun Days - Mid-Summer Faire Weekend
DESCRIPTION:Join us for Leprechaun Days in Rosemount where the family friendly summer festival offers everything from live music\, to carnival rides\, and good food. The American Dream Machine will be serving up our usual fare of deliciousness with our throwback ‘diner’ flair.
URL:https://americandreamhometeam.com/event/leprechaun-days-mid-summer-faire-weekend-4/
LOCATION:Rosemount Central Park\, 2893 145th St W\, Rosemount\, 55068\, United States
CATEGORIES:Community Event
ATTACH;FMTTYPE=image/png:https://americandreamhometeam.com/wp-content/uploads/2024/03/Leprechaun-Days-600x400-1.png
END:VEVENT
BEGIN:VEVENT
DTSTART;TZID=America/Chicago:20260724T170000
DTEND;TZID=America/Chicago:20260724T230000
DTSTAMP:20260420T214321
CREATED:20260303T202942Z
LAST-MODIFIED:20260416T140816Z
UID:10000154-1784912400-1784934000@americandreamhometeam.com
SUMMARY:Leprechaun Days - Mid-Summer Faire Weekend
DESCRIPTION:Join us for Leprechaun Days in Rosemount where the family friendly summer festival offers everything from live music\, to carnival rides\, and good food. The American Dream Machine will be serving up our usual fare of deliciousness with our throwback ‘diner’ flair.
URL:https://americandreamhometeam.com/event/leprechaun-days-mid-summer-faire-weekend-8/
LOCATION:Rosemount Central Park\, 2893 145th St W\, Rosemount\, 55068\, United States
CATEGORIES:Community Event
ATTACH;FMTTYPE=image/png:https://americandreamhometeam.com/wp-content/uploads/2024/03/Leprechaun-Days-600x400-1.png
END:VEVENT
BEGIN:VEVENT
DTSTART;TZID=America/Chicago:20260725T130000
DTEND;TZID=America/Chicago:20260725T230000
DTSTAMP:20260420T214321
CREATED:20260303T203007Z
LAST-MODIFIED:20260416T140725Z
UID:10000155-1784984400-1785020400@americandreamhometeam.com
SUMMARY:Leprechaun Days - Mid-Summer Faire Weekend
DESCRIPTION:Join us for Leprechaun Days in Rosemount where the family friendly summer festival offers everything from live music\, to carnival rides\, and good food. The American Dream Machine will be serving up our usual fare of deliciousness with our throwback ‘diner’ flair.
URL:https://americandreamhometeam.com/event/leprechaun-days-mid-summer-faire-weekend-9/
LOCATION:Rosemount Central Park\, 2893 145th St W\, Rosemount\, 55068\, United States
CATEGORIES:Community Event
ATTACH;FMTTYPE=image/png:https://americandreamhometeam.com/wp-content/uploads/2024/03/Leprechaun-Days-600x400-1.png
END:VEVENT
BEGIN:VEVENT
DTSTART;TZID=America/Chicago:20260729T100000
DTEND;TZID=America/Chicago:20260729T210000
DTSTAMP:20260420T214321
CREATED:20251209T214257Z
LAST-MODIFIED:20260416T131640Z
UID:10000159-1785319200-1785358800@americandreamhometeam.com
SUMMARY:Washington County Fair
DESCRIPTION:Join us at the Washington County Fair where you’ll find a carnival with rides and games\, exhibits\, live music\, and more. The American Dream Machine will be serving up our usual fare of deliciousness with our throwback ‘diner’ flair.
URL:https://americandreamhometeam.com/event/washington-county-fair/
LOCATION:Washington County Fairgrounds\, 12300 40th St N\, Lake Elmo\, MN\, 55042\, United States
CATEGORIES:County Fair
ATTACH;FMTTYPE=image/png:https://americandreamhometeam.com/wp-content/uploads/2025/05/Washington-County-Fair-600x400-1.png
END:VEVENT
BEGIN:VEVENT
DTSTART;TZID=America/Chicago:20260730T100000
DTEND;TZID=America/Chicago:20260730T220000
DTSTAMP:20260420T214321
CREATED:20251209T214410Z
LAST-MODIFIED:20260416T141948Z
UID:10000142-1785405600-1785448800@americandreamhometeam.com
SUMMARY:Washington County Fair
DESCRIPTION:Join us at the Washington County Fair where you’ll find a carnival with rides and games\, exhibits\, live music\, and more. The American Dream Machine will be serving up our usual fare of deliciousness with our throwback ‘diner’ flair.
URL:https://americandreamhometeam.com/event/washington-county-fair-7/
LOCATION:Washington County Fairgrounds\, 12300 40th St N\, Lake Elmo\, MN\, 55042\, United States
CATEGORIES:County Fair
ATTACH;FMTTYPE=image/png:https://americandreamhometeam.com/wp-content/uploads/2025/05/Washington-County-Fair-600x400-1.png
END:VEVENT
BEGIN:VEVENT
DTSTART;TZID=America/Chicago:20260731T100000
DTEND;TZID=America/Chicago:20260731T220000
DTSTAMP:20260420T214321
CREATED:20251209T214617Z
LAST-MODIFIED:20260416T130735Z
UID:10000143-1785492000-1785535200@americandreamhometeam.com
SUMMARY:Washington County Fair
DESCRIPTION:Join us at the Washington County Fair where you’ll find a carnival with rides and games\, exhibits\, live music\, and more. The American Dream Machine will be serving up our usual fare of deliciousness with our throwback ‘diner’ flair.
URL:https://americandreamhometeam.com/event/washington-county-fair-8/
LOCATION:Washington County Fairgrounds\, 12300 40th St N\, Lake Elmo\, MN\, 55042\, United States
CATEGORIES:County Fair
ATTACH;FMTTYPE=image/png:https://americandreamhometeam.com/wp-content/uploads/2025/05/Washington-County-Fair-600x400-1.png
END:VEVENT
END:VCALENDAR