BEGIN:VCALENDAR
VERSION:2.0
PRODID:-//American Dream Home Team - ECPv6.15.20//NONSGML v1.0//EN
CALSCALE:GREGORIAN
METHOD:PUBLISH
X-WR-CALNAME:American Dream Home Team
X-ORIGINAL-URL:https://americandreamhometeam.com
X-WR-CALDESC:Events for American Dream Home Team
REFRESH-INTERVAL;VALUE=DURATION:PT1H
X-Robots-Tag:noindex
X-PUBLISHED-TTL:PT1H
BEGIN:VTIMEZONE
TZID:America/Chicago
BEGIN:DAYLIGHT
TZOFFSETFROM:-0600
TZOFFSETTO:-0500
TZNAME:CDT
DTSTART:20240310T080000
END:DAYLIGHT
BEGIN:STANDARD
TZOFFSETFROM:-0500
TZOFFSETTO:-0600
TZNAME:CST
DTSTART:20241103T070000
END:STANDARD
BEGIN:DAYLIGHT
TZOFFSETFROM:-0600
TZOFFSETTO:-0500
TZNAME:CDT
DTSTART:20250309T080000
END:DAYLIGHT
BEGIN:STANDARD
TZOFFSETFROM:-0500
TZOFFSETTO:-0600
TZNAME:CST
DTSTART:20251102T070000
END:STANDARD
BEGIN:DAYLIGHT
TZOFFSETFROM:-0600
TZOFFSETTO:-0500
TZNAME:CDT
DTSTART:20260308T080000
END:DAYLIGHT
BEGIN:STANDARD
TZOFFSETFROM:-0500
TZOFFSETTO:-0600
TZNAME:CST
DTSTART:20261101T070000
END:STANDARD
END:VTIMEZONE
BEGIN:VEVENT
DTSTART;TZID=America/Chicago:20250703T133000
DTEND;TZID=America/Chicago:20250703T220000
DTSTAMP:20260419T190853
CREATED:20250319T134356Z
LAST-MODIFIED:20250319T134356Z
UID:10000078-1751549400-1751580000@americandreamhometeam.com
SUMMARY:Canterbury Park - Kwik Trip Fireworks Spectacular
DESCRIPTION:Join the American Dream Machine at the Canterbury Park Kwik Trip Fireworks Spectacular. There is sure to be something for everyone in the family with our expanded menu!
URL:https://americandreamhometeam.com/event/canterbury-park-4th-of-july-celebration/
LOCATION:Canterbury Park\, 1100 Canterbury Rd\, Shakopee\, MN\, 55379\, United States
CATEGORIES:Canterbury Park
ATTACH;FMTTYPE=image/png:https://americandreamhometeam.com/wp-content/uploads/2024/05/Canterbury-Park-4th-July-Celebration-600x400-2.png
END:VEVENT
BEGIN:VEVENT
DTSTART;TZID=America/Chicago:20250704T113000
DTEND;TZID=America/Chicago:20250704T190000
DTSTAMP:20260419T190853
CREATED:20250319T142333Z
LAST-MODIFIED:20250319T142333Z
UID:10000079-1751628600-1751655600@americandreamhometeam.com
SUMMARY:Canterbury Park - Hormel 4th of July with Wiener Dog Races
DESCRIPTION:Join the American Dream Machine at the Canterbury Park Hormel 4th of July with Wiener Dogs Celebration. There is sure to be something for everyone in the family with our expanded menu!
URL:https://americandreamhometeam.com/event/canterbury-park-hormel-4th-of-july-with-wiener-dogs-celebration/
LOCATION:Canterbury Park\, 1100 Canterbury Rd\, Shakopee\, MN\, 55379\, United States
CATEGORIES:Canterbury Park
ATTACH;FMTTYPE=image/png:https://americandreamhometeam.com/wp-content/uploads/2025/03/Canterbury-Dog-Race-Days-600x400-1.png
END:VEVENT
BEGIN:VEVENT
DTSTART;TZID=America/Chicago:20250709T110000
DTEND;TZID=America/Chicago:20250709T140000
DTSTAMP:20260419T190853
CREATED:20250520T214350Z
LAST-MODIFIED:20250520T214350Z
UID:10000097-1752058800-1752069600@americandreamhometeam.com
SUMMARY:Allina Health Coon Rapids- Open to Public
DESCRIPTION:Come out and dine with The American Dream Machine at Allina Health in Coon Rapids. We’ll be serving up our usual fare of deliciousness with our throwback ‘diner’ flair.
URL:https://americandreamhometeam.com/event/allina-health-coon-rapids-open-to-public-2/
LOCATION:Low Down Payment Purchase Options
CATEGORIES:Community Event
ATTACH;FMTTYPE=image/png:https://americandreamhometeam.com/wp-content/uploads/2025/04/Allina-Health-600x400-1-1.png
END:VEVENT
BEGIN:VEVENT
DTSTART;TZID=America/Chicago:20250716T110000
DTEND;TZID=America/Chicago:20250716T130000
DTSTAMP:20260419T190853
CREATED:20250618T191506Z
LAST-MODIFIED:20250618T191506Z
UID:10000127-1752663600-1752670800@americandreamhometeam.com
SUMMARY:Pace Analytical Services Employee Appreciation - Private Event
DESCRIPTION:Private employee appreciation lunch\, not open to the public. Yes\, we do private events! Contact us to book your event.
URL:https://americandreamhometeam.com/event/pace-analytical-services-3/
LOCATION:Pace Labs\, 1311 Helmo Ave Bay N\, Oakdale\, MN\, 55128\, United States
CATEGORIES:Private Event
ATTACH;FMTTYPE=image/png:https://americandreamhometeam.com/wp-content/uploads/2024/03/Pace-Analytical-Services-600x400-1.png
END:VEVENT
BEGIN:VEVENT
DTSTART;TZID=America/Chicago:20250717T160000
DTEND;TZID=America/Chicago:20250717T200000
DTSTAMP:20260419T190853
CREATED:20250512T205552Z
LAST-MODIFIED:20250512T205552Z
UID:10000095-1752768000-1752782400@americandreamhometeam.com
SUMMARY:Summer Food Fest in Inver Grove Heights
DESCRIPTION:Join us at the fun-tastic Summer Food Fest in Inver Grove Heights where you can listen to live music and join in family-friendly activities. The American Dream Machine will be serving up our usual fare of deliciousness with our throwback ‘diner’ flair.
URL:https://americandreamhometeam.com/event/summer-food-fest-in-inver-grove-heights/
LOCATION:Construction Home Loan
CATEGORIES:Community Event
ATTACH;FMTTYPE=image/png:https://americandreamhometeam.com/wp-content/uploads/2025/05/Summer-Food-Fest-in-Inver-Grove-Heights-600x400-1.png
END:VEVENT
BEGIN:VEVENT
DTSTART;TZID=America/Chicago:20250724T170000
DTEND;TZID=America/Chicago:20250724T223000
DTSTAMP:20260419T190853
CREATED:20250603T155642Z
LAST-MODIFIED:20250603T155642Z
UID:10000107-1753376400-1753396200@americandreamhometeam.com
SUMMARY:Leprechaun Days - Mid-Summer Faire Weekend
DESCRIPTION:Join us for Leprechaun Days in Rosemount where the family friendly summer festival offers everything from live music\, to carnival rides\, and good food. The American Dream Machine will be serving up our usual fare of deliciousness with our throwback ‘diner’ flair.
URL:https://americandreamhometeam.com/event/leprechaun-days-mid-summer-faire-weekend-5/
LOCATION:FHA Home Loan
CATEGORIES:Community Event
ATTACH;FMTTYPE=image/png:https://americandreamhometeam.com/wp-content/uploads/2024/03/Leprechaun-Days-600x400-1.png
END:VEVENT
BEGIN:VEVENT
DTSTART;TZID=America/Chicago:20250725T170000
DTEND;TZID=America/Chicago:20250725T230000
DTSTAMP:20260419T190853
CREATED:20250603T160020Z
LAST-MODIFIED:20250603T160020Z
UID:10000108-1753462800-1753484400@americandreamhometeam.com
SUMMARY:Leprechaun Days - Mid-Summer Faire Weekend
DESCRIPTION:Join us for Leprechaun Days in Rosemount where the family friendly summer festival offers everything from live music\, to carnival rides\, and good food. The American Dream Machine will be serving up our usual fare of deliciousness with our throwback ‘diner’ flair.
URL:https://americandreamhometeam.com/event/leprechaun-days-mid-summer-faire-weekend-6/
LOCATION:FHA Home Loan
CATEGORIES:Community Event
ATTACH;FMTTYPE=image/png:https://americandreamhometeam.com/wp-content/uploads/2024/03/Leprechaun-Days-600x400-1.png
END:VEVENT
BEGIN:VEVENT
DTSTART;TZID=America/Chicago:20250726T130000
DTEND;TZID=America/Chicago:20250726T230000
DTSTAMP:20260419T190853
CREATED:20250603T160221Z
LAST-MODIFIED:20250603T160221Z
UID:10000109-1753534800-1753570800@americandreamhometeam.com
SUMMARY:Leprechaun Days - Mid-Summer Faire Weekend
DESCRIPTION:Join us for Leprechaun Days in Rosemount where the family friendly summer festival offers everything from live music\, to carnival rides\, and good food. The American Dream Machine will be serving up our usual fare of deliciousness with our throwback ‘diner’ flair.
URL:https://americandreamhometeam.com/event/leprechaun-days-mid-summer-faire-weekend-7/
LOCATION:MN
CATEGORIES:Community Event
ATTACH;FMTTYPE=image/png:https://americandreamhometeam.com/wp-content/uploads/2024/03/Leprechaun-Days-600x400-1.png
END:VEVENT
BEGIN:VEVENT
DTSTART;TZID=America/Chicago:20250730T100000
DTEND;TZID=America/Chicago:20250730T210000
DTSTAMP:20260419T190853
CREATED:20250603T163757Z
LAST-MODIFIED:20260416T131427Z
UID:10000112-1753869600-1753909200@americandreamhometeam.com
SUMMARY:Washington County Fair
DESCRIPTION:Join us at the Washington County Fair where you’ll find a carnival with rides and games\, exhibits\, live music\, and more. The American Dream Machine will be serving up our usual fare of deliciousness with our throwback ‘diner’ flair.
URL:https://americandreamhometeam.com/event/washington-county-fair-2/
LOCATION:Washington County Fairgrounds\, 12300 40th St N\, Lake Elmo\, MN\, 55042\, United States
CATEGORIES:County Fair
ATTACH;FMTTYPE=image/png:https://americandreamhometeam.com/wp-content/uploads/2025/05/Washington-County-Fair-600x400-1.png
END:VEVENT
BEGIN:VEVENT
DTSTART;TZID=America/Chicago:20250731T100000
DTEND;TZID=America/Chicago:20250731T220000
DTSTAMP:20260419T190853
CREATED:20250603T163910Z
LAST-MODIFIED:20260416T131139Z
UID:10000113-1753956000-1753999200@americandreamhometeam.com
SUMMARY:Washington County Fair
DESCRIPTION:Join us at the Washington County Fair where you’ll find a carnival with rides and games\, exhibits\, live music\, and more. The American Dream Machine will be serving up our usual fare of deliciousness with our throwback ‘diner’ flair.
URL:https://americandreamhometeam.com/event/washington-county-fair-3/
LOCATION:A silver key with a house-shaped keychain is inserted into a door lock\, with soft natural light shining from the left side of the image.
CATEGORIES:County Fair
ATTACH;FMTTYPE=image/png:https://americandreamhometeam.com/wp-content/uploads/2025/05/Washington-County-Fair-600x400-1.png
END:VEVENT
END:VCALENDAR