BEGIN:VCALENDAR
VERSION:2.0
PRODID:-//American Dream Home Team - ECPv6.15.20//NONSGML v1.0//EN
CALSCALE:GREGORIAN
METHOD:PUBLISH
X-WR-CALNAME:American Dream Home Team
X-ORIGINAL-URL:https://americandreamhometeam.com
X-WR-CALDESC:Events for American Dream Home Team
REFRESH-INTERVAL;VALUE=DURATION:PT1H
X-Robots-Tag:noindex
X-PUBLISHED-TTL:PT1H
BEGIN:VTIMEZONE
TZID:America/Chicago
BEGIN:DAYLIGHT
TZOFFSETFROM:-0600
TZOFFSETTO:-0500
TZNAME:CDT
DTSTART:20230312T080000
END:DAYLIGHT
BEGIN:STANDARD
TZOFFSETFROM:-0500
TZOFFSETTO:-0600
TZNAME:CST
DTSTART:20231105T070000
END:STANDARD
BEGIN:DAYLIGHT
TZOFFSETFROM:-0600
TZOFFSETTO:-0500
TZNAME:CDT
DTSTART:20240310T080000
END:DAYLIGHT
BEGIN:STANDARD
TZOFFSETFROM:-0500
TZOFFSETTO:-0600
TZNAME:CST
DTSTART:20241103T070000
END:STANDARD
BEGIN:DAYLIGHT
TZOFFSETFROM:-0600
TZOFFSETTO:-0500
TZNAME:CDT
DTSTART:20250309T080000
END:DAYLIGHT
BEGIN:STANDARD
TZOFFSETFROM:-0500
TZOFFSETTO:-0600
TZNAME:CST
DTSTART:20251102T070000
END:STANDARD
END:VTIMEZONE
BEGIN:VEVENT
DTSTART;TZID=America/Chicago:20241003T120000
DTEND;TZID=America/Chicago:20241003T140000
DTSTAMP:20260419T161204
CREATED:20240919T172748Z
LAST-MODIFIED:20240919T172748Z
UID:10000053-1727956800-1727964000@americandreamhometeam.com
SUMMARY:Fit Academy School Homecoming Celebration
DESCRIPTION:Join the American Dream Machine at the Fit Academy Charter School Homecoming Celebration. We’ll be serving up our usual fare of deliciousness with our throwback ‘diner’ flair. \nWe are donating 20% of our proceeds back to the school.
URL:https://americandreamhometeam.com/event/fit-academy-school-homecoming-celebration/
LOCATION:Married-people-conversation-and-budget-for-insurance-policy-investing-or-tax-returns-in-apartment-or-family-hom
CATEGORIES:Community Event
ATTACH;FMTTYPE=image/png:https://americandreamhometeam.com/wp-content/uploads/2024/09/600x400.png
END:VEVENT
BEGIN:VEVENT
DTSTART;TZID=America/Chicago:20241004T163000
DTEND;TZID=America/Chicago:20241004T183000
DTSTAMP:20260419T161204
CREATED:20240530T165242Z
LAST-MODIFIED:20240530T165242Z
UID:10000044-1728059400-1728066600@americandreamhometeam.com
SUMMARY:North Heights Christian Academy Fall Family Fest
DESCRIPTION:Join the American Dream Machine at the North Heights Christian Academy Fall Family Fest. We’ll be serving up our usual fare of deliciousness with our throwback ‘diner’ flair.
URL:https://americandreamhometeam.com/event/north-heights-christian-academy-fall-family-fest/
LOCATION:North Heights Christian Academy\, 2651 Rice St\, Roseville\, MN\, 55113\, United States
CATEGORIES:Community Event
ATTACH;FMTTYPE=image/png:https://americandreamhometeam.com/wp-content/uploads/2024/05/North-Heights-Christian-Academy-600x400-1.png
END:VEVENT
BEGIN:VEVENT
DTSTART;TZID=America/Chicago:20241012T103000
DTEND;TZID=America/Chicago:20241012T163000
DTSTAMP:20260419T161204
CREATED:20241127T173040Z
LAST-MODIFIED:20241127T173040Z
UID:10000054-1728729000-1728750600@americandreamhometeam.com
SUMMARY:St Croix Valley Athletic Association Flag Football Tournament
DESCRIPTION:Join the American Dream Machine at the St Croix Valley Athletic Association Flag Football Tournament. We’ll be serving up our usual fare of deliciousness with our throwback ‘diner’ flair.
URL:https://americandreamhometeam.com/event/st-croix-valley-athletic-association-flag-football-tournament/
LOCATION:Lucy Winston Bell Athletic Field\, 15601 Hudson Rd N\, Afton\, MN\, 55001\, United States
CATEGORIES:Community Event
ATTACH;FMTTYPE=image/png:https://americandreamhometeam.com/wp-content/uploads/2024/09/SCVAA-Flag-Football-600x400-1-1.png
END:VEVENT
END:VCALENDAR