BEGIN:VCALENDAR
VERSION:2.0
PRODID:-//American Dream Home Team - ECPv6.15.20//NONSGML v1.0//EN
CALSCALE:GREGORIAN
METHOD:PUBLISH
X-WR-CALNAME:American Dream Home Team
X-ORIGINAL-URL:https://americandreamhometeam.com
X-WR-CALDESC:Events for American Dream Home Team
REFRESH-INTERVAL;VALUE=DURATION:PT1H
X-Robots-Tag:noindex
X-PUBLISHED-TTL:PT1H
BEGIN:VTIMEZONE
TZID:America/Chicago
BEGIN:DAYLIGHT
TZOFFSETFROM:-0600
TZOFFSETTO:-0500
TZNAME:CDT
DTSTART:20230312T080000
END:DAYLIGHT
BEGIN:STANDARD
TZOFFSETFROM:-0500
TZOFFSETTO:-0600
TZNAME:CST
DTSTART:20231105T070000
END:STANDARD
BEGIN:DAYLIGHT
TZOFFSETFROM:-0600
TZOFFSETTO:-0500
TZNAME:CDT
DTSTART:20240310T080000
END:DAYLIGHT
BEGIN:STANDARD
TZOFFSETFROM:-0500
TZOFFSETTO:-0600
TZNAME:CST
DTSTART:20241103T070000
END:STANDARD
BEGIN:DAYLIGHT
TZOFFSETFROM:-0600
TZOFFSETTO:-0500
TZNAME:CDT
DTSTART:20250309T080000
END:DAYLIGHT
BEGIN:STANDARD
TZOFFSETFROM:-0500
TZOFFSETTO:-0600
TZNAME:CST
DTSTART:20251102T070000
END:STANDARD
END:VTIMEZONE
BEGIN:VEVENT
DTSTART;TZID=America/Chicago:20240905T170000
DTEND;TZID=America/Chicago:20240905T200000
DTSTAMP:20260419T175752
CREATED:20240328T203642Z
LAST-MODIFIED:20240328T203642Z
UID:10000021-1725555600-1725566400@americandreamhometeam.com
SUMMARY:Burnsville Festival & Fire Muster
DESCRIPTION:The Burnsville Festival & Fire Muster features a variety of multicultural activities for all ages\, including music\, arts\, history\, culture\, education\, agriculture\, and public safety. The festival also includes parades\, fireworks\, and live music. The American Dream Machine will be serving up our usual fare of deliciousness with our throwback ‘diner’ flair. \nThis event is free to the public.
URL:https://americandreamhometeam.com/event/burnsville-festival-fire-muster/
LOCATION:poppins-medium-webfont
CATEGORIES:Community Event
ATTACH;FMTTYPE=image/png:https://americandreamhometeam.com/wp-content/uploads/2024/03/Burnsville-Fire-Muster-600x400-1.png
END:VEVENT
BEGIN:VEVENT
DTSTART;TZID=America/Chicago:20240906T170000
DTEND;TZID=America/Chicago:20240906T230000
DTSTAMP:20260419T175752
CREATED:20240328T204340Z
LAST-MODIFIED:20240328T204340Z
UID:10000022-1725642000-1725663600@americandreamhometeam.com
SUMMARY:Burnsville Festival & Fire Muster
DESCRIPTION:The Burnsville Festival & Fire Muster features a variety of multicultural activities for all ages\, including music\, arts\, history\, culture\, education\, agriculture\, and public safety. The festival also includes parades\, fireworks\, and live music. The American Dream Machine will be serving up our usual fare of deliciousness with our throwback ‘diner’ flair. \nThis event is free to the public.
URL:https://americandreamhometeam.com/event/burnsville-festival-fire-muster-2/
LOCATION:poppins-italic-webfont
CATEGORIES:Community Event
ATTACH;FMTTYPE=image/png:https://americandreamhometeam.com/wp-content/uploads/2024/03/Burnsville-Fire-Muster-600x400-1.png
END:VEVENT
BEGIN:VEVENT
DTSTART;TZID=America/Chicago:20240907T110000
DTEND;TZID=America/Chicago:20240907T230000
DTSTAMP:20260419T175752
CREATED:20240328T204606Z
LAST-MODIFIED:20240328T204606Z
UID:10000023-1725706800-1725750000@americandreamhometeam.com
SUMMARY:Burnsville Festival & Fire Muster
DESCRIPTION:The Burnsville Festival & Fire Muster features a variety of multicultural activities for all ages\, including music\, arts\, history\, culture\, education\, agriculture\, and public safety. The festival also includes parades\, fireworks\, and live music. The American Dream Machine will be serving up our usual fare of deliciousness with our throwback ‘diner’ flair. \nThis event is free to the public.
URL:https://americandreamhometeam.com/event/burnsville-festival-fire-muster-3/
LOCATION:poppins-italic-webfont
CATEGORIES:Community Event
ATTACH;FMTTYPE=image/png:https://americandreamhometeam.com/wp-content/uploads/2024/03/Burnsville-Fire-Muster-600x400-1.png
END:VEVENT
BEGIN:VEVENT
DTSTART;TZID=America/Chicago:20240910T110000
DTEND;TZID=America/Chicago:20240910T133000
DTSTAMP:20260419T175752
CREATED:20240328T204956Z
LAST-MODIFIED:20240328T204956Z
UID:10000024-1725966000-1725975000@americandreamhometeam.com
SUMMARY:Crossroads Properties Burnsville Tenant Event - Open to the Public
DESCRIPTION:Come out and dine with The American Dream Machine at the Crossroads Properties Tenant Event that is open to the public. We’ll be serving up our usual fare of deliciousness with our throwback ‘diner’ flair.
URL:https://americandreamhometeam.com/event/crossroads-properties-burnsville-tenant-event-open-to-the-public-2/
CATEGORIES:Crossroads Properties Tenant Event
ATTACH;FMTTYPE=image/png:https://americandreamhometeam.com/wp-content/uploads/2024/03/Crossroads-Burnsville-600x400-1.png
END:VEVENT
BEGIN:VEVENT
DTSTART;TZID=America/Chicago:20240915T123000
DTEND;TZID=America/Chicago:20240915T153000
DTSTAMP:20260419T175752
CREATED:20240724T153055Z
LAST-MODIFIED:20240724T153055Z
UID:10000047-1726403400-1726414200@americandreamhometeam.com
SUMMARY:Woodbury Vintage Baseball Game
DESCRIPTION:Join the American Dream Machine at the the Woodbury Vintage Baseball Game. We’ll be serving up our usual fare of deliciousness with our throwback ‘diner’ flair. The Saint Croix Base Ball Club is playing the Woodbury Mystery Team and playing using 1860 New York Rules.
URL:https://americandreamhometeam.com/event/woodbury-vintage-baseball-game/
LOCATION:Real Estate Agent Recommendation
CATEGORIES:Community Event
ATTACH;FMTTYPE=image/png:https://americandreamhometeam.com/wp-content/uploads/2024/07/Woodbury-Vintage-Baseball-600x400-1.png
END:VEVENT
BEGIN:VEVENT
DTSTART;TZID=America/Chicago:20240920T160000
DTEND;TZID=America/Chicago:20240920T180000
DTSTAMP:20260419T175752
CREATED:20240530T164144Z
LAST-MODIFIED:20240530T164144Z
UID:10000043-1726848000-1726855200@americandreamhometeam.com
SUMMARY:Stillwater High School Homecoming Carnival
DESCRIPTION:Join the American Dream Machine at the Stillwater High School Homecoming Carnival. We’ll be serving up our usual fare of deliciousness with our throwback ‘diner’ flair.
URL:https://americandreamhometeam.com/event/stillwater-high-school-homecoming-carnival/
LOCATION:Stillwater High School\, 5701 Stillwater Blvd N\, Stillwater\, MN\, 55082\, United States
CATEGORIES:Community Event
ATTACH;FMTTYPE=image/png:https://americandreamhometeam.com/wp-content/uploads/2024/05/Stillwater-HS-Homecoming-Carnival-600x400-1.png
END:VEVENT
BEGIN:VEVENT
DTSTART;TZID=America/Chicago:20240921T170000
DTEND;TZID=America/Chicago:20240921T200000
DTSTAMP:20260419T175752
CREATED:20240328T212355Z
LAST-MODIFIED:20240328T212355Z
UID:10000025-1726938000-1726948800@americandreamhometeam.com
SUMMARY:Private Wedding
DESCRIPTION:Private wedding\, not open to the public. Yes\, we do private events! Contact us to book an event.
URL:https://americandreamhometeam.com/event/private-wedding/
LOCATION:MN
CATEGORIES:Private Event
ATTACH;FMTTYPE=image/png:https://americandreamhometeam.com/wp-content/uploads/2024/03/Private-Event-Wedding-600x400-1.png
END:VEVENT
BEGIN:VEVENT
DTSTART;TZID=America/Chicago:20240922T120000
DTEND;TZID=America/Chicago:20240922T170000
DTSTAMP:20260419T175752
CREATED:20240820T201929Z
LAST-MODIFIED:20240820T201929Z
UID:10000050-1727006400-1727024400@americandreamhometeam.com
SUMMARY:St Cloud Pride in the Park
DESCRIPTION:St. Cloud Pride in the Park is an annual family friendly event featuring local food vendors\, businesses\, organizations\, music\, games and more! Join us for the 15th annual St. Cloud Pride in the Park! We invite YOU to come out and show your colors in Central Minnesota!  The American Dream Machine will be serving up our usual fare of deliciousness with our throwback ‘diner’ flair.
URL:https://americandreamhometeam.com/event/st-cloud-pride-in-the-park/
LOCATION:Lake George Eastman Park\, 1101 7th St S\, St Cloud\, MN\, 56301\, United States
CATEGORIES:Community Event
ATTACH;FMTTYPE=image/png:https://americandreamhometeam.com/wp-content/uploads/2024/08/Pride-in-the-Park-600x400-1.png
END:VEVENT
BEGIN:VEVENT
DTSTART;TZID=America/Chicago:20240926T150000
DTEND;TZID=America/Chicago:20240926T190000
DTSTAMP:20260419T175752
CREATED:20240909T220749Z
LAST-MODIFIED:20240909T220749Z
UID:10000052-1727362800-1727377200@americandreamhometeam.com
SUMMARY:EFS Advisors Grand Opening - Open to the Public
DESCRIPTION:Join the American Dream Machine at for EFS Advisors grand opening! We’ll be serving up our usual fare of deliciousness with our throwback ‘diner’ flair.
URL:https://americandreamhometeam.com/event/efs-advisors-grand-opening-open-to-the-public/
LOCATION:How to Stay Focused During a Busy Homebuying Season
CATEGORIES:Community Event
ATTACH;FMTTYPE=image/png:https://americandreamhometeam.com/wp-content/uploads/2024/09/EFS-Advisors-Grand-Opening-600x400-1.png
END:VEVENT
END:VCALENDAR