BEGIN:VCALENDAR
VERSION:2.0
PRODID:-//American Dream Home Team - ECPv6.15.20//NONSGML v1.0//EN
CALSCALE:GREGORIAN
METHOD:PUBLISH
X-WR-CALNAME:American Dream Home Team
X-ORIGINAL-URL:https://americandreamhometeam.com
X-WR-CALDESC:Events for American Dream Home Team
REFRESH-INTERVAL;VALUE=DURATION:PT1H
X-Robots-Tag:noindex
X-PUBLISHED-TTL:PT1H
BEGIN:VTIMEZONE
TZID:America/Chicago
BEGIN:DAYLIGHT
TZOFFSETFROM:-0600
TZOFFSETTO:-0500
TZNAME:CDT
DTSTART:20230312T080000
END:DAYLIGHT
BEGIN:STANDARD
TZOFFSETFROM:-0500
TZOFFSETTO:-0600
TZNAME:CST
DTSTART:20231105T070000
END:STANDARD
BEGIN:DAYLIGHT
TZOFFSETFROM:-0600
TZOFFSETTO:-0500
TZNAME:CDT
DTSTART:20240310T080000
END:DAYLIGHT
BEGIN:STANDARD
TZOFFSETFROM:-0500
TZOFFSETTO:-0600
TZNAME:CST
DTSTART:20241103T070000
END:STANDARD
BEGIN:DAYLIGHT
TZOFFSETFROM:-0600
TZOFFSETTO:-0500
TZNAME:CDT
DTSTART:20250309T080000
END:DAYLIGHT
BEGIN:STANDARD
TZOFFSETFROM:-0500
TZOFFSETTO:-0600
TZNAME:CST
DTSTART:20251102T070000
END:STANDARD
END:VTIMEZONE
BEGIN:VEVENT
DTSTART;TZID=America/Chicago:20240703T160000
DTEND;TZID=America/Chicago:20240703T220000
DTSTAMP:20260419T231933
CREATED:20240509T172204Z
LAST-MODIFIED:20240509T172204Z
UID:10000038-1720022400-1720044000@americandreamhometeam.com
SUMMARY:Canterbury Park 4th of July Celebration
DESCRIPTION:Join the American Dream Machine at the Canterbury Park 4th of July Celebration. We’ll be serving up our usual fare of deliciousness with our throwback ‘diner’ flair.
URL:https://americandreamhometeam.com/event/caterbury-4th-of-july-celebration/
LOCATION:Canterbury Park\, 1100 Canterbury Rd\, Shakopee\, MN\, 55379\, United States
CATEGORIES:Canterbury Park
ATTACH;FMTTYPE=image/png:https://americandreamhometeam.com/wp-content/uploads/2024/05/Canterbury-Park-4th-July-Celebration-600x400-2.png
END:VEVENT
BEGIN:VEVENT
DTSTART;TZID=America/Chicago:20240704T170000
DTEND;TZID=America/Chicago:20240704T220000
DTSTAMP:20260419T231933
CREATED:20240328T191250Z
LAST-MODIFIED:20240328T191250Z
UID:10000014-1720112400-1720130400@americandreamhometeam.com
SUMMARY:Woodbury July 4th Celebration -- New Date TBD -- Postponed Due to Weather
DESCRIPTION:We are waiting for Woodbury to reschedule this event. They postponed due to weather. When a date is available\, we will update our calendar. \nCelebrate the 4th of July at Woodbury’s annual Hometown Celebration. The festivities include a band\, inflatables\, food trucks and fireworks.  The American Dream Machine will be serving up our usual fare of deliciousness with our throwback ‘diner’ flair.
URL:https://americandreamhometeam.com/event/woodbury-july-4th-celebration/
LOCATION:4 Ways Remote Work Has Impacted Home Design
CATEGORIES:Community Event
ATTACH;FMTTYPE=image/png:https://americandreamhometeam.com/wp-content/uploads/2024/03/Woodbury-4th-of-July-600x400-1.png
END:VEVENT
BEGIN:VEVENT
DTSTART;TZID=America/Chicago:20240705T140000
DTEND;TZID=America/Chicago:20240705T180000
DTSTAMP:20260419T231933
CREATED:20240328T192340Z
LAST-MODIFIED:20240328T192340Z
UID:10000016-1720188000-1720202400@americandreamhometeam.com
SUMMARY:Chisago City Farmer’s Market
DESCRIPTION:Shop the summer’s best produce and more local goods at the Chisago City Farmer’s Market. The market offers a variety of fresh products from local growers\, producers\, and artisans. The American Dream Machine will be serving up our usual fare of deliciousness with our throwback ‘diner’ flair.
URL:https://americandreamhometeam.com/event/chisago-city-farmers-market/
LOCATION:Moberg Park\, 10656 Railroad Ave\, Chisago City\, 55013\, United States
CATEGORIES:Farmer's Market
ATTACH;FMTTYPE=image/png:https://americandreamhometeam.com/wp-content/uploads/2024/04/Chisago-Farmers-Market-600x400-1.png
END:VEVENT
BEGIN:VEVENT
DTSTART;TZID=America/Chicago:20240710T110000
DTEND;TZID=America/Chicago:20240710T133000
DTSTAMP:20260419T231933
CREATED:20240328T171714Z
LAST-MODIFIED:20240328T171714Z
UID:10000007-1720609200-1720618200@americandreamhometeam.com
SUMMARY:Crossroads Properties Woodbury Tenant Event - Open to the Public
DESCRIPTION:Come out and dine with The American Dream Machine while enjoying summer at the Crossroads Properties Tenant Event that is open to the public. We’ll be serving up our usual fare of deliciousness with our throwback ‘diner’ flair.
URL:https://americandreamhometeam.com/event/crossroads-properties-woodbury-tenant-event-open-to-the-public/
LOCATION:Crossroads Properties Woodbury\, 650 Commerce Dr\, Woodbury\, 55125\, United States
CATEGORIES:Crossroads Properties Tenant Event
ATTACH;FMTTYPE=image/png:https://americandreamhometeam.com/wp-content/uploads/2024/03/Crossroads-Commerce-600x400-1.png
END:VEVENT
BEGIN:VEVENT
DTSTART;TZID=America/Chicago:20240712T170000
DTEND;TZID=America/Chicago:20240712T220000
DTSTAMP:20260419T231933
CREATED:20240417T205005Z
LAST-MODIFIED:20240417T205005Z
UID:10000035-1720803600-1720821600@americandreamhometeam.com
SUMMARY:Maple Grove Days
DESCRIPTION:Join the American Dream Machine at the Maple Grove Days were there is endless entertainment\, food and fun! We’ll be serving up our usual fare of deliciousness with our throwback ‘diner’ flair.
URL:https://americandreamhometeam.com/event/maple-grove-days/
CATEGORIES:Community Event
ATTACH;FMTTYPE=image/png:https://americandreamhometeam.com/wp-content/uploads/2024/04/Maple-Grove-Days-600x400-1.png
END:VEVENT
BEGIN:VEVENT
DTSTART;TZID=America/Chicago:20240713T100000
DTEND;TZID=America/Chicago:20240713T200000
DTSTAMP:20260419T231933
CREATED:20240417T205111Z
LAST-MODIFIED:20240417T205111Z
UID:10000036-1720864800-1720900800@americandreamhometeam.com
SUMMARY:Maple Grove Days
DESCRIPTION:Join the American Dream Machine at the Maple Grove Days were there is endless entertainment\, food and fun! We’ll be serving up our usual fare of deliciousness with our throwback ‘diner’ flair.
URL:https://americandreamhometeam.com/event/maple-grove-days-2/
CATEGORIES:Community Event
ATTACH;FMTTYPE=image/png:https://americandreamhometeam.com/wp-content/uploads/2024/04/Maple-Grove-Days-600x400-1.png
END:VEVENT
BEGIN:VEVENT
DTSTART;TZID=America/Chicago:20240719T170000
DTEND;TZID=America/Chicago:20240719T220000
DTSTAMP:20260419T231933
CREATED:20240509T185838Z
LAST-MODIFIED:20240509T185838Z
UID:10000039-1721408400-1721426400@americandreamhometeam.com
SUMMARY:Canterbury Park Ram Trucks Rodeo
DESCRIPTION:Join the American Dream Machine at the Canterbury Park Ram Trucks Rodeo. This is a PRCA sanctioned rodeo with live music\, activities and games. We’ll be serving up our usual fare of deliciousness with our throwback ‘diner’ flair.
URL:https://americandreamhometeam.com/event/canterbury-park-ram-trucks-rodeo/2024-07-19/
LOCATION:Canterbury Park\, 1100 Canterbury Rd\, Shakopee\, MN\, 55379\, United States
CATEGORIES:Canterbury Park
ATTACH;FMTTYPE=image/png:https://americandreamhometeam.com/wp-content/uploads/2024/05/Canterbury-Park-Rodeo-600x400-2.png
END:VEVENT
BEGIN:VEVENT
DTSTART;TZID=America/Chicago:20240720T170000
DTEND;TZID=America/Chicago:20240720T220000
DTSTAMP:20260419T231933
CREATED:20240509T185838Z
LAST-MODIFIED:20240509T185838Z
UID:10000040-1721494800-1721512800@americandreamhometeam.com
SUMMARY:Canterbury Park Ram Trucks Rodeo
DESCRIPTION:Join the American Dream Machine at the Canterbury Park Ram Trucks Rodeo. This is a PRCA sanctioned rodeo with live music\, activities and games. We’ll be serving up our usual fare of deliciousness with our throwback ‘diner’ flair.
URL:https://americandreamhometeam.com/event/canterbury-park-ram-trucks-rodeo/2024-07-20/
LOCATION:Canterbury Park\, 1100 Canterbury Rd\, Shakopee\, MN\, 55379\, United States
CATEGORIES:Canterbury Park
ATTACH;FMTTYPE=image/png:https://americandreamhometeam.com/wp-content/uploads/2024/05/Canterbury-Park-Rodeo-600x400-2.png
END:VEVENT
BEGIN:VEVENT
DTSTART;TZID=America/Chicago:20240720T170000
DTEND;TZID=America/Chicago:20240720T220000
DTSTAMP:20260419T231933
CREATED:20240530T161822Z
LAST-MODIFIED:20240530T161822Z
UID:10000042-1721494800-1721512800@americandreamhometeam.com
SUMMARY:Canterbury Park Ram Trucks Rodeo
DESCRIPTION:Join the American Dream Machine at the Canterbury Park Ram Trucks Rodeo. This is a PRCA sanctioned rodeo with live music\, activities and games. We’ll be serving up our usual fare of deliciousness with our throwback ‘diner’ flair.
URL:https://americandreamhometeam.com/event/canterbury-park-ram-trucks-rodeo-2/
LOCATION:Canterbury Park\, 1100 Canterbury Rd\, Shakopee\, MN\, 55379\, United States
CATEGORIES:Canterbury Park
ATTACH;FMTTYPE=image/png:https://americandreamhometeam.com/wp-content/uploads/2024/05/Canterbury-Park-Rodeo-600x400-2.png
END:VEVENT
BEGIN:VEVENT
DTSTART;TZID=America/Chicago:20240725T170000
DTEND;TZID=America/Chicago:20240725T223000
DTSTAMP:20260419T231933
CREATED:20240328T194559Z
LAST-MODIFIED:20240328T194559Z
UID:10000017-1721926800-1721946600@americandreamhometeam.com
SUMMARY:Leprechaun Days - Mid-Summer Faire Weekend
DESCRIPTION:Join us for Leprechaun Day’s in Rosemount where the family friendly summer festival offers everything from live music\, to carnival rides\, and good food. The American Dream Machine will be serving up our usual fare of deliciousness with our throwback ‘diner’ flair.
URL:https://americandreamhometeam.com/event/leprechaun-days-mid-summer-faire-weekend/
LOCATION:FHA Home Loan
CATEGORIES:Community Event
ATTACH;FMTTYPE=image/png:https://americandreamhometeam.com/wp-content/uploads/2024/03/Leprechaun-Days-600x400-1.png
END:VEVENT
BEGIN:VEVENT
DTSTART;TZID=America/Chicago:20240726T170000
DTEND;TZID=America/Chicago:20240726T230000
DTSTAMP:20260419T231933
CREATED:20240328T223039Z
LAST-MODIFIED:20240328T223039Z
UID:10000029-1722013200-1722034800@americandreamhometeam.com
SUMMARY:Leprechaun Days - Mid-Summer Faire Weekend
DESCRIPTION:Join us for Leprechaun Day’s in Rosemount where the family friendly summer festival offers everything from live music\, to carnival rides\, and good food. The American Dream Machine will be serving up our usual fare of deliciousness with our throwback ‘diner’ flair.
URL:https://americandreamhometeam.com/event/leprechaun-days-mid-summer-faire-weekend-2/
LOCATION:FHA Home Loan
CATEGORIES:Community Event
ATTACH;FMTTYPE=image/png:https://americandreamhometeam.com/wp-content/uploads/2024/03/Leprechaun-Days-600x400-1.png
END:VEVENT
BEGIN:VEVENT
DTSTART;TZID=America/Chicago:20240727T130000
DTEND;TZID=America/Chicago:20240727T230000
DTSTAMP:20260419T231933
CREATED:20240328T223206Z
LAST-MODIFIED:20240328T223206Z
UID:10000030-1722085200-1722121200@americandreamhometeam.com
SUMMARY:Leprechaun Days - Mid-Summer Faire Weekend
DESCRIPTION:Join us for Leprechaun Day’s in Rosemount where the family friendly summer festival offers everything from live music\, to carnival rides\, and good food. The American Dream Machine will be serving up our usual fare of deliciousness with our throwback ‘diner’ flair.
URL:https://americandreamhometeam.com/event/leprechaun-days-mid-summer-faire-weekend-3/
LOCATION:FHA Home Loan
CATEGORIES:Community Event
ATTACH;FMTTYPE=image/png:https://americandreamhometeam.com/wp-content/uploads/2024/03/Leprechaun-Days-600x400-1.png
END:VEVENT
END:VCALENDAR