BEGIN:VCALENDAR
VERSION:2.0
PRODID:-//American Dream Home Team - ECPv6.15.20//NONSGML v1.0//EN
CALSCALE:GREGORIAN
METHOD:PUBLISH
X-WR-CALNAME:American Dream Home Team
X-ORIGINAL-URL:https://americandreamhometeam.com
X-WR-CALDESC:Events for American Dream Home Team
REFRESH-INTERVAL;VALUE=DURATION:PT1H
X-Robots-Tag:noindex
X-PUBLISHED-TTL:PT1H
BEGIN:VTIMEZONE
TZID:America/Chicago
BEGIN:DAYLIGHT
TZOFFSETFROM:-0600
TZOFFSETTO:-0500
TZNAME:CDT
DTSTART:20230312T080000
END:DAYLIGHT
BEGIN:STANDARD
TZOFFSETFROM:-0500
TZOFFSETTO:-0600
TZNAME:CST
DTSTART:20231105T070000
END:STANDARD
BEGIN:DAYLIGHT
TZOFFSETFROM:-0600
TZOFFSETTO:-0500
TZNAME:CDT
DTSTART:20240310T080000
END:DAYLIGHT
BEGIN:STANDARD
TZOFFSETFROM:-0500
TZOFFSETTO:-0600
TZNAME:CST
DTSTART:20241103T070000
END:STANDARD
BEGIN:DAYLIGHT
TZOFFSETFROM:-0600
TZOFFSETTO:-0500
TZNAME:CDT
DTSTART:20250309T080000
END:DAYLIGHT
BEGIN:STANDARD
TZOFFSETFROM:-0500
TZOFFSETTO:-0600
TZNAME:CST
DTSTART:20251102T070000
END:STANDARD
END:VTIMEZONE
BEGIN:VEVENT
DTSTART;TZID=America/Chicago:20240604T110000
DTEND;TZID=America/Chicago:20240604T140000
DTSTAMP:20260420T010334
CREATED:20240328T171714Z
LAST-MODIFIED:20240328T171714Z
UID:10000010-1717498800-1717509600@americandreamhometeam.com
SUMMARY:Crossroads Properties Burnsville Tenant Event - Open to the Public
DESCRIPTION:Come out and dine with The American Dream Machine at the Crossroads Properties Tenant Event that is open to the public. We’ll be serving up our usual fare of deliciousness with our throwback ‘diner’ flair.
URL:https://americandreamhometeam.com/event/crossroads-properties-burnsville-tenant-event-open-to-the-public/
CATEGORIES:Crossroads Properties Tenant Event
ATTACH;FMTTYPE=image/png:https://americandreamhometeam.com/wp-content/uploads/2024/03/Crossroads-Burnsville-600x400-1.png
END:VEVENT
BEGIN:VEVENT
DTSTART;TZID=America/Chicago:20240605T100000
DTEND;TZID=America/Chicago:20240605T143000
DTSTAMP:20260420T010334
CREATED:20240417T215412Z
LAST-MODIFIED:20240417T215412Z
UID:10000037-1717581600-1717597800@americandreamhometeam.com
SUMMARY:Private Event - Fit Academy School Family Picnic
DESCRIPTION:Private school family picnic at Fit Academy\, not open to the public. Yes\, we do private events! Contact us to book an event.
URL:https://americandreamhometeam.com/event/school-family-picnic/
LOCATION:MN
CATEGORIES:Private Event
ATTACH;FMTTYPE=image/png:https://americandreamhometeam.com/wp-content/uploads/2024/04/Private-Event-Picnic-600x400-1.png
END:VEVENT
BEGIN:VEVENT
DTSTART;TZID=America/Chicago:20240612T110000
DTEND;TZID=America/Chicago:20240612T140000
DTSTAMP:20260420T010334
CREATED:20240415T190648Z
LAST-MODIFIED:20240415T190648Z
UID:10000034-1718190000-1718200800@americandreamhometeam.com
SUMMARY:MoZaic Tenant Appreciation
DESCRIPTION:Join the American Dream Machine at the MoZaic Buildings Tenant Appreciation. We’ll be serving up our usual fare of deliciousness with our throwback ‘diner’ flair.
URL:https://americandreamhometeam.com/event/mozaic-tenant-appreciation/
LOCATION:MoZaic Buildings\, 1300-1350 Lagoon Ave\, Minneapolis\, MN\, 55408\, United States
CATEGORIES:Community Event
ATTACH;FMTTYPE=image/png:https://americandreamhometeam.com/wp-content/uploads/2024/04/MoZaic-Tenant-Appreciation-600x400-2.png
END:VEVENT
BEGIN:VEVENT
DTSTART;TZID=America/Chicago:20240615T110000
DTEND;TZID=America/Chicago:20240615T200000
DTSTAMP:20260420T010334
CREATED:20240328T171714Z
LAST-MODIFIED:20240328T171714Z
UID:10000011-1718449200-1718481600@americandreamhometeam.com
SUMMARY:Food Truck Extravaganza
DESCRIPTION:Come out and dine with The American Dream Machine while enjoying the rest of the food and fun at the Food Truck Extravaganza! We’ll be serving up our usual fare of deliciousness with our throwback ‘diner’ flair. \nThis is a family-friendly\, PET friendly (must be leashed) outdoor event-rain or shine! \n\n40 Food Trucks from across Minnesota\nBeer & wine tent\nBusiness Marketplace of products and services\nLive music & entertainment\nKids activities\nMilitary row\n\nOn-Site Entry Fee: $10/person*; children under 5 are FREE \nThis event is sponsored by the Greater Stillwater Chamber of Commerce. Visit their website to learn more. \n*A portion of the entry fee proceeds go to the Stillwater Area High School Trades Scholarship Fund!
URL:https://americandreamhometeam.com/event/food-truck-extravaganza/
LOCATION:A silver key with a house-shaped keychain is inserted into a door lock\, with soft natural light shining from the left side of the image.
CATEGORIES:Community Event,Fundraising Event
ATTACH;FMTTYPE=image/png:https://americandreamhometeam.com/wp-content/uploads/2024/03/Food-Truck-Extravaganza-600x400-1.png
END:VEVENT
BEGIN:VEVENT
DTSTART;TZID=America/Chicago:20240616T110000
DTEND;TZID=America/Chicago:20240616T173000
DTSTAMP:20260420T010334
CREATED:20240517T214521Z
LAST-MODIFIED:20240517T214521Z
UID:10000041-1718535600-1718559000@americandreamhometeam.com
SUMMARY:Father’s Day Food Truck Festival at Canterbury Park
DESCRIPTION:Join the American Dream Machine at the Father’s Day Food Truck Festival at Canterbury Park. Come enjoy time with the kids. There will be racing\, face painting\, pony rides\, an arcade\, kid’s crafts and a kid’s race on the track. We’ll be serving up our usual fare of deliciousness with our throwback ‘diner’ flair.
URL:https://americandreamhometeam.com/event/fathers-day-food-truck-festival-at-canterbury-park/
LOCATION:Canterbury Park\, 1100 Canterbury Rd\, Shakopee\, MN\, 55379\, United States
CATEGORIES:Canterbury Park
ATTACH;FMTTYPE=image/png:https://americandreamhometeam.com/wp-content/uploads/2024/05/Canterbury-Park-Fathers-Day-600x193-1.png
END:VEVENT
BEGIN:VEVENT
DTSTART;TZID=America/Chicago:20240622T160000
DTEND;TZID=America/Chicago:20240622T190000
DTSTAMP:20260420T010334
CREATED:20240328T171714Z
LAST-MODIFIED:20240328T171714Z
UID:10000012-1719072000-1719082800@americandreamhometeam.com
SUMMARY:Private Birthday Party
DESCRIPTION:Private birthday party\, not open to the public. Yes\, we do private events! Contact us to book an event.
URL:https://americandreamhometeam.com/event/private-birthday-party/
LOCATION:MN
CATEGORIES:Private Event
ATTACH;FMTTYPE=image/png:https://americandreamhometeam.com/wp-content/uploads/2024/04/Private-Event-BDay-Party-600x400-2.png
END:VEVENT
BEGIN:VEVENT
DTSTART;TZID=America/Chicago:20240629T100000
DTEND;TZID=America/Chicago:20240629T190000
DTSTAMP:20260420T010334
CREATED:20240328T185638Z
LAST-MODIFIED:20240328T185638Z
UID:10000013-1719655200-1719687600@americandreamhometeam.com
SUMMARY:Twin Cities Pride Festival
DESCRIPTION:The Twin Cities Pride Festival is Minnesota’s second largest festival and the largest FREE Pride festival. Highlighting the best in LGBTQIA+ entertainment on 4 stages\, featuring over 650 vendors\, including LGBTQIA+ & BIPOC community resources\, artists\, and businesses.  We are so honored and excited to be serving our 2nd year at Pride – look for The American Dream Machine in space Y-A in the yellow food section! We’ll be serving up our usual fare of deliciousness with our throwback ‘diner’ flair. \nPhoto by Brooke Ross.
URL:https://americandreamhometeam.com/event/twin-cities-pride-festival/
LOCATION:Designing a Home Office: 6 Ideas for Productivity & Comfort
CATEGORIES:Community Event,Twin Cities Pride Festival
ATTACH;FMTTYPE=image/png:https://americandreamhometeam.com/wp-content/uploads/2024/03/TC-Pride-Festival-600x400-1.png
END:VEVENT
BEGIN:VEVENT
DTSTART;TZID=America/Chicago:20240630T100000
DTEND;TZID=America/Chicago:20240630T180000
DTSTAMP:20260420T010334
CREATED:20240328T191439Z
LAST-MODIFIED:20240328T191439Z
UID:10000015-1719741600-1719770400@americandreamhometeam.com
SUMMARY:Twin Cities Pride Festival
DESCRIPTION:The Twin Cities Pride Festival is Minnesota’s second largest festival and the largest FREE Pride festival. Highlighting the best in LGBTQIA+ entertainment on 4 stages\, featuring over 650 vendors\, including LGBTQIA+ & BIPOC community resources\, artists\, and businesses.  We are so honored and excited to be serving our 2nd year at Pride – look for The American Dream Machine in space Y-A in the yellow food section! We’ll be serving up our usual fare of deliciousness with our throwback ‘diner’ flair. \nPhoto by Brooke Ross.
URL:https://americandreamhometeam.com/event/twin-cities-pride-festival-2/
LOCATION:Designing a Home Office: 6 Ideas for Productivity & Comfort
CATEGORIES:Community Event,Twin Cities Pride Festival
ATTACH;FMTTYPE=image/png:https://americandreamhometeam.com/wp-content/uploads/2024/03/TC-Pride-Festival-600x400-1.png
END:VEVENT
END:VCALENDAR