BEGIN:VCALENDAR
VERSION:2.0
PRODID:-//American Dream Home Team - ECPv6.15.20//NONSGML v1.0//EN
CALSCALE:GREGORIAN
METHOD:PUBLISH
X-WR-CALNAME:American Dream Home Team
X-ORIGINAL-URL:https://americandreamhometeam.com
X-WR-CALDESC:Events for American Dream Home Team
REFRESH-INTERVAL;VALUE=DURATION:PT1H
X-Robots-Tag:noindex
X-PUBLISHED-TTL:PT1H
BEGIN:VTIMEZONE
TZID:America/Chicago
BEGIN:DAYLIGHT
TZOFFSETFROM:-0600
TZOFFSETTO:-0500
TZNAME:CDT
DTSTART:20230312T080000
END:DAYLIGHT
BEGIN:STANDARD
TZOFFSETFROM:-0500
TZOFFSETTO:-0600
TZNAME:CST
DTSTART:20231105T070000
END:STANDARD
BEGIN:DAYLIGHT
TZOFFSETFROM:-0600
TZOFFSETTO:-0500
TZNAME:CDT
DTSTART:20240310T080000
END:DAYLIGHT
BEGIN:STANDARD
TZOFFSETFROM:-0500
TZOFFSETTO:-0600
TZNAME:CST
DTSTART:20241103T070000
END:STANDARD
BEGIN:DAYLIGHT
TZOFFSETFROM:-0600
TZOFFSETTO:-0500
TZNAME:CDT
DTSTART:20250309T080000
END:DAYLIGHT
BEGIN:STANDARD
TZOFFSETFROM:-0500
TZOFFSETTO:-0600
TZNAME:CST
DTSTART:20251102T070000
END:STANDARD
BEGIN:DAYLIGHT
TZOFFSETFROM:-0600
TZOFFSETTO:-0500
TZNAME:CDT
DTSTART:20260308T080000
END:DAYLIGHT
BEGIN:STANDARD
TZOFFSETFROM:-0500
TZOFFSETTO:-0600
TZNAME:CST
DTSTART:20261101T070000
END:STANDARD
END:VTIMEZONE
BEGIN:VEVENT
DTSTART;TZID=America/Chicago:20250910T140000
DTEND;TZID=America/Chicago:20250910T160000
DTSTAMP:20260420T002901
CREATED:20250813T135248Z
LAST-MODIFIED:20250813T135248Z
UID:10000132-1757512800-1757520000@americandreamhometeam.com
SUMMARY:Private Event - Real Estate Agent Appreciation & Charity Event for Last Hope Animal Rescue
DESCRIPTION:Private event for our wonderful Real Estate agents. We will be donating 20% of our proceeds to Last Hope Animal Rescue in Farmington\, MN. Yes\, we do private events! Contact us to book an event.
URL:https://americandreamhometeam.com/event/agent-appreciation-charity-event/
LOCATION:How to Budget for Homeownership: Beyond the Mortgage Payment
CATEGORIES:Fundraising Event,Private Event,Realtor Event
ATTACH;FMTTYPE=image/png:https://americandreamhometeam.com/wp-content/uploads/2025/08/Agent-Appreciation-Charity-Event-600x400-1-1.png
END:VEVENT
BEGIN:VEVENT
DTSTART;TZID=America/Chicago:20250614T110000
DTEND;TZID=America/Chicago:20250614T200000
DTSTAMP:20260420T002901
CREATED:20250218T203419Z
LAST-MODIFIED:20250218T203419Z
UID:10000066-1749898800-1749931200@americandreamhometeam.com
SUMMARY:Food Truck Extravaganza
DESCRIPTION:Come out and dine with The American Dream Machine while enjoying the rest of the food and fun at the Food Truck Extravaganza! We’ll be serving up our usual fare of deliciousness with our throwback ‘diner’ flair. \nThis is a family-friendly\, PET friendly (must be leashed) outdoor event-rain or shine! \n\n40 Food Trucks from across Minnesota\nBeer & wine tent\nBusiness Marketplace of products and services\nLive music & entertainment\nKids activities\nMilitary row\n\nOn-Site Entry Fee: $10/person*; children under 5 are FREE \nThis event is sponsored by the Greater Stillwater Chamber of Commerce. Visit their website to learn more. \n*A portion of the entry fee proceeds go to the Stillwater Area High School Trades Scholarship Fund!
URL:https://americandreamhometeam.com/event/food-truck-extravaganza-2/
LOCATION:A silver key with a house-shaped keychain is inserted into a door lock\, with soft natural light shining from the left side of the image.
CATEGORIES:Community Event,Fundraising Event
ATTACH;FMTTYPE=image/png:https://americandreamhometeam.com/wp-content/uploads/2024/03/Food-Truck-Extravaganza-600x400-1.png
END:VEVENT
BEGIN:VEVENT
DTSTART;TZID=America/Chicago:20250608T110000
DTEND;TZID=America/Chicago:20250608T170000
DTSTAMP:20260420T002901
CREATED:20250527T171358Z
LAST-MODIFIED:20250527T171358Z
UID:10000099-1749380400-1749402000@americandreamhometeam.com
SUMMARY:Food Truck Food Fight Fundraiser - Saint Paul Park Heritage Days
DESCRIPTION:Join us at the Food Truck Food Fight fundraiser for Saint Paul Park Heritage Days by the American Legion. Vote for your favorite food truck and get a chance to win a prize! Bid on any of the many baskets for the silent auction to support Heritage Days. The American Dream Machine will be seving up our usual fare of deliciousness with our throwback ‘diner’ flair.
URL:https://americandreamhometeam.com/event/food-truck-food-fight-fundraiser-saint-paul-park-heritage-days/
LOCATION:Understanding the Cost of Waiting to Buy a Home
CATEGORIES:Community Event,Fundraising Event
ATTACH;FMTTYPE=image/png:https://americandreamhometeam.com/wp-content/uploads/2025/05/St-Paul-Heritage-Days-Food-Truck-Food-Fight-600x400-2.png
END:VEVENT
BEGIN:VEVENT
DTSTART;TZID=America/Chicago:20250510T120000
DTEND;TZID=America/Chicago:20250510T190000
DTSTAMP:20260420T002901
CREATED:20250401T203045Z
LAST-MODIFIED:20250401T203045Z
UID:10000081-1746878400-1746903600@americandreamhometeam.com
SUMMARY:Cars for Kids
DESCRIPTION:Join the American Dream Machine at the Cars for Kids event sponsored by Rank N Rowdy Media. We’ll be serving up our usual fare of deliciousness with our throwback ‘diner’ flair. There is sure to be something for everyone in the family! We will be donating 20% of our proceeds to Safe Haven Foster Shoppe.
URL:https://americandreamhometeam.com/event/cars-for-kids/
LOCATION:Blackhawk Park\, 1629 Murphy Pkwy\, Eagan\, 55122\, United States
CATEGORIES:Community Event,Fundraising Event
ATTACH;FMTTYPE=image/png:https://americandreamhometeam.com/wp-content/uploads/2025/03/Cars-for-Kids-600x400-1.png
END:VEVENT
BEGIN:VEVENT
DTSTART;TZID=America/Chicago:20240803T153000
DTEND;TZID=America/Chicago:20240803T210000
DTSTAMP:20260420T002901
CREATED:20240530T171032Z
LAST-MODIFIED:20240530T171032Z
UID:10000045-1722699000-1722718800@americandreamhometeam.com
SUMMARY:Relay for Life of Stillwater
DESCRIPTION:Join the American Dream Machine at the Relay for Life of Stillwater. The event is from 3-11; we will serve until 9 pm in Lowell Park in Stillwater. We’ll be serving up our usual fare of deliciousness with our throwback ‘diner’ flair. \nPlease come out and support this great cause. We will be donating 25% of our proceeds to The American Cancer Society.
URL:https://americandreamhometeam.com/event/relay-for-life-of-stillwater/
LOCATION:Lowell Park\, 201 Water St N\, Stillwater\, 55082\, United States
CATEGORIES:Fundraising Event
ATTACH;FMTTYPE=image/png:https://americandreamhometeam.com/wp-content/uploads/2024/05/Relay-for-Life-of-Stillwater-600x400-1.png
END:VEVENT
BEGIN:VEVENT
DTSTART;TZID=America/Chicago:20240615T110000
DTEND;TZID=America/Chicago:20240615T200000
DTSTAMP:20260420T002901
CREATED:20240328T171714Z
LAST-MODIFIED:20240328T171714Z
UID:10000011-1718449200-1718481600@americandreamhometeam.com
SUMMARY:Food Truck Extravaganza
DESCRIPTION:Come out and dine with The American Dream Machine while enjoying the rest of the food and fun at the Food Truck Extravaganza! We’ll be serving up our usual fare of deliciousness with our throwback ‘diner’ flair. \nThis is a family-friendly\, PET friendly (must be leashed) outdoor event-rain or shine! \n\n40 Food Trucks from across Minnesota\nBeer & wine tent\nBusiness Marketplace of products and services\nLive music & entertainment\nKids activities\nMilitary row\n\nOn-Site Entry Fee: $10/person*; children under 5 are FREE \nThis event is sponsored by the Greater Stillwater Chamber of Commerce. Visit their website to learn more. \n*A portion of the entry fee proceeds go to the Stillwater Area High School Trades Scholarship Fund!
URL:https://americandreamhometeam.com/event/food-truck-extravaganza/
LOCATION:A silver key with a house-shaped keychain is inserted into a door lock\, with soft natural light shining from the left side of the image.
CATEGORIES:Community Event,Fundraising Event
ATTACH;FMTTYPE=image/png:https://americandreamhometeam.com/wp-content/uploads/2024/03/Food-Truck-Extravaganza-600x400-1.png
END:VEVENT
END:VCALENDAR