BEGIN:VCALENDAR
VERSION:2.0
PRODID:-//American Dream Home Team - ECPv6.15.20//NONSGML v1.0//EN
CALSCALE:GREGORIAN
METHOD:PUBLISH
X-WR-CALNAME:American Dream Home Team
X-ORIGINAL-URL:https://americandreamhometeam.com
X-WR-CALDESC:Events for American Dream Home Team
REFRESH-INTERVAL;VALUE=DURATION:PT1H
X-Robots-Tag:noindex
X-PUBLISHED-TTL:PT1H
BEGIN:VTIMEZONE
TZID:America/Chicago
BEGIN:DAYLIGHT
TZOFFSETFROM:-0600
TZOFFSETTO:-0500
TZNAME:CDT
DTSTART:20250309T080000
END:DAYLIGHT
BEGIN:STANDARD
TZOFFSETFROM:-0500
TZOFFSETTO:-0600
TZNAME:CST
DTSTART:20251102T070000
END:STANDARD
BEGIN:DAYLIGHT
TZOFFSETFROM:-0600
TZOFFSETTO:-0500
TZNAME:CDT
DTSTART:20260308T080000
END:DAYLIGHT
BEGIN:STANDARD
TZOFFSETFROM:-0500
TZOFFSETTO:-0600
TZNAME:CST
DTSTART:20261101T070000
END:STANDARD
BEGIN:DAYLIGHT
TZOFFSETFROM:-0600
TZOFFSETTO:-0500
TZNAME:CDT
DTSTART:20270314T080000
END:DAYLIGHT
BEGIN:STANDARD
TZOFFSETFROM:-0500
TZOFFSETTO:-0600
TZNAME:CST
DTSTART:20271107T070000
END:STANDARD
END:VTIMEZONE
BEGIN:VEVENT
DTSTART;TZID=America/Chicago:20260604T160000
DTEND;TZID=America/Chicago:20260604T190000
DTSTAMP:20260420T184945
CREATED:20260319T210723Z
LAST-MODIFIED:20260416T140142Z
UID:10000178-1780588800-1780599600@americandreamhometeam.com
SUMMARY:Homeownership Rally for Realtors & Clients
DESCRIPTION:SPAAR’s DEI Committee is holding a rally with information for you and your homebuyers and how they can get the assistance they need to purchase in today’s market. There will also be vendors to help those that have already purchased a home; they will be giving info on home maintenance\, home improvement and other homeowner assistance. This event is open to the public! The American Dream Machine will be there serving up some delicious food with our throwback ‘diner’ flair.
URL:https://americandreamhometeam.com/event/homeownership-rally-for-realtors-clients/
LOCATION:SPAAR\, 325 Roselawn Ave E\, Maplewood\, MN\, 55117\, United States
CATEGORIES:Community Event,Realtor Event
ATTACH;FMTTYPE=image/png:https://americandreamhometeam.com/wp-content/uploads/2026/03/spaar-homeownership-rally.png
END:VEVENT
BEGIN:VEVENT
DTSTART;TZID=America/Chicago:20260606T100000
DTEND;TZID=America/Chicago:20260606T170000
DTSTAMP:20260420T184945
CREATED:20260318T152105Z
LAST-MODIFIED:20260416T140257Z
UID:10000157-1780740000-1780765200@americandreamhometeam.com
SUMMARY:Anoka Pride Day
DESCRIPTION:The community is invited to gather for Anoka Pride Day: Celebrate Love & Acceptance. This free\, family-friendly event will bring together residents\, local businesses\, and visitors for a day filled with connection\, creativity\, and celebration with live entertainment\, hands-on creative activities for all ages and more! The American Dream Machine will be serving up our usual fare of deliciousness with our throwback ‘diner’ flair.
URL:https://americandreamhometeam.com/event/anoka-pride-day/
LOCATION:Riverfront Memorial Park\, 2201 2nd Ave\, Anoka\, 55303\, United States
CATEGORIES:Community Event
ATTACH;FMTTYPE=image/png:https://americandreamhometeam.com/wp-content/uploads/2026/03/anokapride-day.png
END:VEVENT
BEGIN:VEVENT
DTSTART;TZID=America/Chicago:20260613T120000
DTEND;TZID=America/Chicago:20260613T180000
DTSTAMP:20260420T184945
CREATED:20251209T214004Z
LAST-MODIFIED:20260416T140418Z
UID:10000158-1781352000-1781373600@americandreamhometeam.com
SUMMARY:Golden Valley Pride Festival
DESCRIPTION:Join the American Dream Machine at the Golden Valley Pride Festival. We’ll be serving up our usual fare of deliciousness with our throwback ‘diner’ flair.
URL:https://americandreamhometeam.com/event/golden-valley-pride-festival-2/
LOCATION:Brookview Park\, 200 Brookview Pkwy N\, Golden Valley\, MN\, 55426\, United States
CATEGORIES:Community Event
ATTACH;FMTTYPE=image/png:https://americandreamhometeam.com/wp-content/uploads/2024/11/Golden-Valley-Pride-600-x-400-px.png
END:VEVENT
BEGIN:VEVENT
DTSTART;TZID=America/Chicago:20260620T100000
DTEND;TZID=America/Chicago:20260620T160000
DTSTAMP:20260420T184945
CREATED:20260114T130726Z
LAST-MODIFIED:20260114T130726Z
UID:10000163-1781949600-1781971200@americandreamhometeam.com
SUMMARY:Hudson Pride Fest
DESCRIPTION:Join the American Dream Machine at the Hudson\, WI Pride Fest for a full day of events to celebrate this area’s LGBTQ+ community. We’ll be serving up our usual fare of deliciousness with our throwback ‘diner’ flair.
URL:https://americandreamhometeam.com/event/hudson-pride-fest-2/
LOCATION:Lakefront Park Hudson\, 1st St\, Hudson\, WI\, 54016\, United States
CATEGORIES:Community Event
ATTACH;FMTTYPE=image/png:https://americandreamhometeam.com/wp-content/uploads/2025/04/Burnsville-Pride-Festival.png
END:VEVENT
BEGIN:VEVENT
DTSTART;TZID=America/Chicago:20260627T100000
DTEND;TZID=America/Chicago:20260627T190000
DTSTAMP:20260420T184945
CREATED:20260205T145321Z
LAST-MODIFIED:20260416T140616Z
UID:10000168-1782554400-1782586800@americandreamhometeam.com
SUMMARY:Twin Cities Pride Festival
DESCRIPTION:The Twin Cities Pride Festival is Minnesota’s second largest festival and the largest FREE Pride festival. Highlighting the best in LGBTQIA+ entertainment on 4 stages\, featuring over 650 vendors\, including LGBTQIA+ & BIPOC community resources\, artists\, and businesses. We’ll be serving up our usual fare of deliciousness with our throwback ‘diner’ flair. \nPhoto by Brooke Ross.
URL:https://americandreamhometeam.com/event/twin-cities-pride-festival-3/
LOCATION:Loring Park\, 1382 Willow St\, Minneapolis\, 55403\, United States
CATEGORIES:Community Event,Twin Cities Pride Festival
ATTACH;FMTTYPE=image/png:https://americandreamhometeam.com/wp-content/uploads/2024/03/TC-Pride-Festival-600x400-1.png
END:VEVENT
BEGIN:VEVENT
DTSTART;TZID=America/Chicago:20260628T100000
DTEND;TZID=America/Chicago:20260628T180000
DTSTAMP:20260420T184945
CREATED:20260205T145529Z
LAST-MODIFIED:20260416T140541Z
UID:10000169-1782640800-1782669600@americandreamhometeam.com
SUMMARY:Twin Cities Pride Festival
DESCRIPTION:The Twin Cities Pride Festival is Minnesota’s second largest festival and the largest FREE Pride festival. Highlighting the best in LGBTQIA+ entertainment on 4 stages\, featuring over 650 vendors\, including LGBTQIA+ & BIPOC community resources\, artists\, and businesses. We’ll be serving up our usual fare of deliciousness with our throwback ‘diner’ flair. \nPhoto by Brooke Ross.
URL:https://americandreamhometeam.com/event/twin-cities-pride-festival-4/
LOCATION:Loring Park\, 1382 Willow St\, Minneapolis\, 55403\, United States
CATEGORIES:Community Event,Twin Cities Pride Festival
ATTACH;FMTTYPE=image/png:https://americandreamhometeam.com/wp-content/uploads/2024/03/TC-Pride-Festival-600x400-1.png
END:VEVENT
END:VCALENDAR