BEGIN:VCALENDAR
VERSION:2.0
PRODID:-//American Dream Home Team - ECPv6.15.20//NONSGML v1.0//EN
CALSCALE:GREGORIAN
METHOD:PUBLISH
X-ORIGINAL-URL:https://americandreamhometeam.com
X-WR-CALDESC:Events for American Dream Home Team
REFRESH-INTERVAL;VALUE=DURATION:PT1H
X-Robots-Tag:noindex
X-PUBLISHED-TTL:PT1H
BEGIN:VTIMEZONE
TZID:America/Chicago
BEGIN:DAYLIGHT
TZOFFSETFROM:-0600
TZOFFSETTO:-0500
TZNAME:CDT
DTSTART:20240310T080000
END:DAYLIGHT
BEGIN:STANDARD
TZOFFSETFROM:-0500
TZOFFSETTO:-0600
TZNAME:CST
DTSTART:20241103T070000
END:STANDARD
BEGIN:DAYLIGHT
TZOFFSETFROM:-0600
TZOFFSETTO:-0500
TZNAME:CDT
DTSTART:20250309T080000
END:DAYLIGHT
BEGIN:STANDARD
TZOFFSETFROM:-0500
TZOFFSETTO:-0600
TZNAME:CST
DTSTART:20251102T070000
END:STANDARD
BEGIN:DAYLIGHT
TZOFFSETFROM:-0600
TZOFFSETTO:-0500
TZNAME:CDT
DTSTART:20260308T080000
END:DAYLIGHT
BEGIN:STANDARD
TZOFFSETFROM:-0500
TZOFFSETTO:-0600
TZNAME:CST
DTSTART:20261101T070000
END:STANDARD
END:VTIMEZONE
BEGIN:VEVENT
DTSTART;TZID=America/Chicago:20250927T163000
DTEND;TZID=America/Chicago:20250927T193000
DTSTAMP:20260420T034027
CREATED:20250618T193924Z
LAST-MODIFIED:20250618T193924Z
UID:10000128-1758990600-1759001400@americandreamhometeam.com
SUMMARY:Private Event - Diaper Party
DESCRIPTION:Private Diaper Party\, not open to the public. Yes\, we do private events! Contact us to book an event.
URL:https://americandreamhometeam.com/event/private-event-diaper-party/
LOCATION:MN
CATEGORIES:Private Event
ATTACH;FMTTYPE=image/png:https://americandreamhometeam.com/wp-content/uploads/2025/06/Private-Event-Diaper-Party-600x400-1.png
END:VEVENT
END:VCALENDAR