BEGIN:VCALENDAR
VERSION:2.0
PRODID:-//American Dream Home Team - ECPv6.15.20//NONSGML v1.0//EN
CALSCALE:GREGORIAN
METHOD:PUBLISH
X-WR-CALNAME:American Dream Home Team
X-ORIGINAL-URL:https://americandreamhometeam.com
X-WR-CALDESC:Events for American Dream Home Team
REFRESH-INTERVAL;VALUE=DURATION:PT1H
X-Robots-Tag:noindex
X-PUBLISHED-TTL:PT1H
BEGIN:VTIMEZONE
TZID:America/Chicago
BEGIN:DAYLIGHT
TZOFFSETFROM:-0600
TZOFFSETTO:-0500
TZNAME:CDT
DTSTART:20230312T080000
END:DAYLIGHT
BEGIN:STANDARD
TZOFFSETFROM:-0500
TZOFFSETTO:-0600
TZNAME:CST
DTSTART:20231105T070000
END:STANDARD
BEGIN:DAYLIGHT
TZOFFSETFROM:-0600
TZOFFSETTO:-0500
TZNAME:CDT
DTSTART:20240310T080000
END:DAYLIGHT
BEGIN:STANDARD
TZOFFSETFROM:-0500
TZOFFSETTO:-0600
TZNAME:CST
DTSTART:20241103T070000
END:STANDARD
BEGIN:DAYLIGHT
TZOFFSETFROM:-0600
TZOFFSETTO:-0500
TZNAME:CDT
DTSTART:20250309T080000
END:DAYLIGHT
BEGIN:STANDARD
TZOFFSETFROM:-0500
TZOFFSETTO:-0600
TZNAME:CST
DTSTART:20251102T070000
END:STANDARD
END:VTIMEZONE
BEGIN:VEVENT
DTSTART;TZID=America/Chicago:20240817T110000
DTEND;TZID=America/Chicago:20240817T170000
DTSTAMP:20260420T052619
CREATED:20240328T200628Z
LAST-MODIFIED:20240328T200628Z
UID:10000019-1723892400-1723914000@americandreamhometeam.com
SUMMARY:Ki-Chi-Saga Days
DESCRIPTION:Join our community to celebrate Ki-Chi-Saga Days\, a great city festival with activities for all ages! Enjoy one of the biggest craft/food/display shows in the area with over 100 vendors. You will also find fantastic music concerts\, children’s area\, and more. The American Dream Machine will be serving up our usual fare of deliciousness with our throwback ‘diner’ flair.
URL:https://americandreamhometeam.com/event/ki-chi-saga-days/
CATEGORIES:Community Event
ATTACH;FMTTYPE=image/png:https://americandreamhometeam.com/wp-content/uploads/2024/03/Ki-Chi-Saga-Days-600x400-1.png
END:VEVENT
END:VCALENDAR