BEGIN:VCALENDAR
VERSION:2.0
PRODID:-//American Dream Home Team - ECPv6.15.20//NONSGML v1.0//EN
CALSCALE:GREGORIAN
METHOD:PUBLISH
X-WR-CALNAME:American Dream Home Team
X-ORIGINAL-URL:https://americandreamhometeam.com
X-WR-CALDESC:Events for American Dream Home Team
REFRESH-INTERVAL;VALUE=DURATION:PT1H
X-Robots-Tag:noindex
X-PUBLISHED-TTL:PT1H
BEGIN:VTIMEZONE
TZID:America/Chicago
BEGIN:DAYLIGHT
TZOFFSETFROM:-0600
TZOFFSETTO:-0500
TZNAME:CDT
DTSTART:20230312T080000
END:DAYLIGHT
BEGIN:STANDARD
TZOFFSETFROM:-0500
TZOFFSETTO:-0600
TZNAME:CST
DTSTART:20231105T070000
END:STANDARD
BEGIN:DAYLIGHT
TZOFFSETFROM:-0600
TZOFFSETTO:-0500
TZNAME:CDT
DTSTART:20240310T080000
END:DAYLIGHT
BEGIN:STANDARD
TZOFFSETFROM:-0500
TZOFFSETTO:-0600
TZNAME:CST
DTSTART:20241103T070000
END:STANDARD
BEGIN:DAYLIGHT
TZOFFSETFROM:-0600
TZOFFSETTO:-0500
TZNAME:CDT
DTSTART:20250309T080000
END:DAYLIGHT
BEGIN:STANDARD
TZOFFSETFROM:-0500
TZOFFSETTO:-0600
TZNAME:CST
DTSTART:20251102T070000
END:STANDARD
END:VTIMEZONE
BEGIN:VEVENT
DTSTART;TZID=America/Chicago:20240804T130000
DTEND;TZID=America/Chicago:20240804T180000
DTSTAMP:20260420T081050
CREATED:20240725T141841Z
LAST-MODIFIED:20240725T141841Z
UID:10000048-1722776400-1722794400@americandreamhometeam.com
SUMMARY:Canterbury Park Magical Unicorns and Loveable Llamas
DESCRIPTION:Join the American Dream Machine at Canterbury Park where Magical Unicorns and Loveable Llamas take to the track for enchanting entertainment in-between live horse racing.  We’ll be serving up our usual fare of deliciousness with our throwback ‘diner’ flair. \nEnjoy additional Pepsi Family Day activities with your admission entry! \nPepsi Family Day Activities include: \n\nPony Rides\nCustom Face Painting Experience\nKids Race the Track\nMagical Kids Crafts\nArcade & Family Fun\nMeet the Loveable Llamas
URL:https://americandreamhometeam.com/event/canterbury-park-magical-unicorns-and-loveable-llamas/
LOCATION:MN
CATEGORIES:Canterbury Park
ATTACH;FMTTYPE=image/png:https://americandreamhometeam.com/wp-content/uploads/2024/07/Canterbury-Park-Unicorns-Llamas-600x400-1.png
END:VEVENT
END:VCALENDAR