BEGIN:VCALENDAR
VERSION:2.0
PRODID:-//American Dream Home Team - ECPv6.15.20//NONSGML v1.0//EN
CALSCALE:GREGORIAN
METHOD:PUBLISH
X-WR-CALNAME:American Dream Home Team
X-ORIGINAL-URL:https://americandreamhometeam.com
X-WR-CALDESC:Events for American Dream Home Team
REFRESH-INTERVAL;VALUE=DURATION:PT1H
X-Robots-Tag:noindex
X-PUBLISHED-TTL:PT1H
BEGIN:VTIMEZONE
TZID:America/Chicago
BEGIN:DAYLIGHT
TZOFFSETFROM:-0600
TZOFFSETTO:-0500
TZNAME:CDT
DTSTART:20230312T080000
END:DAYLIGHT
BEGIN:STANDARD
TZOFFSETFROM:-0500
TZOFFSETTO:-0600
TZNAME:CST
DTSTART:20231105T070000
END:STANDARD
BEGIN:DAYLIGHT
TZOFFSETFROM:-0600
TZOFFSETTO:-0500
TZNAME:CDT
DTSTART:20240310T080000
END:DAYLIGHT
BEGIN:STANDARD
TZOFFSETFROM:-0500
TZOFFSETTO:-0600
TZNAME:CST
DTSTART:20241103T070000
END:STANDARD
BEGIN:DAYLIGHT
TZOFFSETFROM:-0600
TZOFFSETTO:-0500
TZNAME:CDT
DTSTART:20250309T080000
END:DAYLIGHT
BEGIN:STANDARD
TZOFFSETFROM:-0500
TZOFFSETTO:-0600
TZNAME:CST
DTSTART:20251102T070000
END:STANDARD
END:VTIMEZONE
BEGIN:VEVENT
DTSTART;TZID=America/Chicago:20240510T143000
DTEND;TZID=America/Chicago:20240510T203000
DTSTAMP:20260420T231632
CREATED:20240328T171715Z
LAST-MODIFIED:20240328T171715Z
UID:10000004-1715351400-1715373000@americandreamhometeam.com
SUMMARY:Lift Bridge Brewing Co 1st Annual Lager Fest
DESCRIPTION:Come out for Lift Bridge Brew Co’s 1st Annual Lager Fest & LBBC Live concert with local music group\, Tail Light Rebellion. Tail Light Rebellion is a group that is an incredibly unique act. These graduates of folk punk transitioned into a full fledged pub folk act that carries the fire\, poetry\, and musicianship of The Pogues\, the hard living\, grit\, and bravado of Tom Waits\, and Bruce Springsteen’s working class politics and and rock and roll spirit\, all of which have been artfully woven together into a wrecking ball of a good time! \nAnd of course we’ll be there with The American Dream Machine food trailer serving up our our throwback ‘diner’ eats\, but with the tasty addition of brats and pretzels!
URL:https://americandreamhometeam.com/event/lift-bridge-brewing-co-1st-annual-lager-fest/
LOCATION:Lift Bridge Brewing Co\, 1900 Tower Dr W\, Stillwater\, MN\, 55082\, United States
CATEGORIES:Lift Bridge Brew Co
ATTACH;FMTTYPE=image/png:https://americandreamhometeam.com/wp-content/uploads/2024/04/Lift-Bridge-Brewing-Co-600x400-1.png
END:VEVENT
END:VCALENDAR